BEGIN:VCALENDAR
VERSION:2.0
PRODID:-//Archer Street - ECPv6.13.2.1//NONSGML v1.0//EN
CALSCALE:GREGORIAN
METHOD:PUBLISH
X-ORIGINAL-URL:https://archerstreet.co.uk
X-WR-CALDESC:Events for Archer Street
REFRESH-INTERVAL;VALUE=DURATION:PT1H
X-Robots-Tag:noindex
X-PUBLISHED-TTL:PT1H
BEGIN:VTIMEZONE
TZID:Europe/London
BEGIN:DAYLIGHT
TZOFFSETFROM:+0000
TZOFFSETTO:+0100
TZNAME:BST
DTSTART:20250330T010000
END:DAYLIGHT
BEGIN:STANDARD
TZOFFSETFROM:+0100
TZOFFSETTO:+0000
TZNAME:GMT
DTSTART:20251026T010000
END:STANDARD
END:VTIMEZONE
BEGIN:VEVENT
DTSTART;TZID=Europe/London:20250208T140000
DTEND;TZID=Europe/London:20250208T170000
DTSTAMP:20260425T015135
CREATED:20241024T104438Z
LAST-MODIFIED:20250116T171201Z
UID:10009944-1739023200-1739034000@archerstreet.co.uk
SUMMARY:Blame It On The Boogie Bottomless Brunch Notting Hill
DESCRIPTION:Dust off those flares and throw on those dancing shoes because we’re turning back time with our Blame It On The Boogie Bottomless Brunch at Archer Street Notting Hill! \nJoin us for an unforgettable afternoon of non-stop Disco\, Soul\, and Motown from across the golden era of the 70s and 80s\, as our talented cast of West End performers serve live vocals to ultimate classics – sure to have you up on the tables like the Dancing Queen you truly are! \nFrom 2pm to 5pm\, you’ll be living your best life as our DJ spins classics like ‘Stayin’ Alive’\, ‘Le Freak’\, and ‘Superstition’ – all while you enjoy 90 minutes of bottomless bubbly Prosecco\, beer\, and pizza. The ultimate weekend groove-fest! \nExpect a mix of legendary tracks that’ll have you out of your seat and on the dancefloor in no time. It’s three hours of pure fun at our jam-packed bottomless brunch – the vibe is unbeatable! \nSo round up your friends and get ready to ‘Turn The Beat Around’ with this fun-filled Saturday afternoon. It’s time to dance\, drink\, and live for the weekend! \n\n\n  \nTicket Options: \n\n£55 Bottomless Ticket – 3 hours of live entertainment\, with 90 minutes of bottomless pizza\, prosecco\, and beer.\n£25 Standard Ticket – 3 hours of live entertainment\, with a glass of prosecco on arrival and your fave pizza to keep you fueled!\n\nT&Cs: \n\nTickets are a must for entry.\nOnce brunch finishes we kindly ask you to shimmy on out.\nSorry\, no stag or hen dos.\nAll guests in your party must purchase the same ticket type else we cannot guarantee you’ll be seated together.
URL:https://archerstreet.co.uk/event/blame-it-on-the-boogie-bottomless-brunch-notting-hill-2/
CATEGORIES:Brunch
ATTACH;FMTTYPE=image/jpeg:https://archerstreet.co.uk/wp-content/uploads/2024/08/Blame-It-On-The-Boogie-Banner.jpg
END:VEVENT
BEGIN:VEVENT
DTSTART;TZID=Europe/London:20250215T140000
DTEND;TZID=Europe/London:20250215T170000
DTSTAMP:20260425T015135
CREATED:20241024T101031Z
LAST-MODIFIED:20250210T125848Z
UID:10009934-1739628000-1739638800@archerstreet.co.uk
SUMMARY:Back To 90's Bottomless Brunch Soho
DESCRIPTION:Join us in Archer Street Soho as we travel back to the 90’s for an afternoon of non-stop throwback hits at this iconic Bottomless Brunch! \nNo Scrubs allowed at this brunch – let our talented performers take you on a trip down memory lane\, celebrating an era where Madonna and Mariah ruled the roost as they belt out 90’s throwback anthems. From 2pm to 5pm\, enjoy 90 minutes of bottomless bubbly and beer\, all whilst enjoying 3 hours of live performances from the Archer Street team\, with 90’s-inspired entertainment. \nExpect to hear Madonna\, Boyzone\, Usher\, and many more! \nTicket Options:  \n\nBottomless Ticket – £55:\n\n3 hours of show-stopping entertainment!\n90 minutes of bottomless pizza\, prosecco\, and beer!\n\n\nStandard Ticket – £25\n\n3 hours of fantastic entertainment!\n1 glass of bubbly prosecco to kickstart the fun.\nYour choice of one mouth-watering pizza.\n\n\n\nEssential Info: \n\nTickets are a must for entry.\nTable assignments are set on the day and can’t be confirmed beforehand.\nGuests will need to leave the venue once the event wraps up.\nWe run an over 25 policy.\nWe unfortunately don’t accept stag/hen parties.\nAll guests in your party must purchase the same ticket type else we cannot guarantee you’ll be seated together.\n\nSo what you waiting for? Dust off those low-rise jeans\, gather your crew\, and get ready for an afternoon of unforgettable 90s vibes! \nSecure your tickets now for the biggest throwback party ever!
URL:https://archerstreet.co.uk/event/back-to-90s-bottomless-brunch-soho-2-2/
LOCATION:Soho
CATEGORIES:Brunch
ATTACH;FMTTYPE=image/jpeg:https://archerstreet.co.uk/wp-content/uploads/2024/06/AS_Back-to-90s_Banner.jpg
END:VEVENT
BEGIN:VEVENT
DTSTART;TZID=Europe/London:20250222T140000
DTEND;TZID=Europe/London:20250222T170000
DTSTAMP:20260425T015135
CREATED:20241024T094803Z
LAST-MODIFIED:20250218T151051Z
UID:10009928-1740232800-1740243600@archerstreet.co.uk
SUMMARY:Cabaret Showstopper Bottomless Brunch Soho
DESCRIPTION:The perfect bottomless brunch for all theatre lovers!  \nIf you love the theatre as much as we do\, you’re in for a treat at Archer Street Soho’s Cabaret Showstopper Bottomless Brunch! \nJoin us from 2pm to 5pm and get ready to be dazzled by our incredibly talented team as they perform the greatest hits from stage and screen! All while you enjoy bottomless pizza\, bubbly prosecco\, and refreshing beer. \nExpect to hear the biggest tunes from Chicago\, Cabaret\, Greatest Showman\, Moulin Rouge\, and much more. \nTicket Options: \n\nBottomless Ticket – £55:\n\n3 hours of show-stopping entertainment!\n90 minutes of bottomless pizza\, prosecco\, and beer!\n\n\nStandard Ticket – £25\n\n3 hours of fantastic entertainment!\n1 glass of bubbly prosecco to kickstart the fun.\nYour choice of one mouth-watering pizza.\n\n\n\nEssential Info: \n\nTickets are a must for entry and are non-refundable.\nGuests will need to leave the venue once the event wraps up.\nBottomless starts 14:30 and ends at 16:00. Please ensure you arrive promptly to avoid missing valuable bottomless time.\nWe run an over 25 policy.\nWe unfortunately don’t accept stag/hen parties.\nAll guests in your party must purchase the same ticket type else we cannot guarantee you’ll be seated together.\nSmaller groups may be in shared areas.\n\nSo throw on your best outfit\, gather your friends\, and join us for an unforgettable afternoon of theatre tunes\, fun\, and fabulousness! \nBook your tickets now and don’t miss out on the ultimate cabaret brunch experience!
URL:https://archerstreet.co.uk/event/cabaret-showstopper-bottomless-brunch-soho-6-3/
LOCATION:Soho
CATEGORIES:Brunch
ATTACH;FMTTYPE=image/jpeg:https://archerstreet.co.uk/wp-content/uploads/2024/08/AS_West-End-Brunch_Banner-1.jpg
END:VEVENT
BEGIN:VEVENT
DTSTART;TZID=Europe/London:20250222T140000
DTEND;TZID=Europe/London:20250222T170000
DTSTAMP:20260425T015135
CREATED:20241024T103348Z
LAST-MODIFIED:20250218T151047Z
UID:10009941-1740232800-1740243600@archerstreet.co.uk
SUMMARY:Back To 90's Bottomless Brunch Notting Hill
DESCRIPTION:Join us in Archer Street Notting Hill as we travel back to the 90’s for an afternoon of non-stop throwback hits at this iconic Bottomless Brunch! \nNo Scrubs allowed at this brunch – let our talented performers take you on a trip down memory lane\, celebrating an era where Madonna and Mariah ruled the roost as they belt out 90’s throwback anthems. From 2pm to 5pm\, enjoy 90 minutes of bottomless bubbly and beer\, all whilst enjoying 3 hours of live performances from the Archer Street team\, with 90’s-inspired entertainment. \nExpect to hear Madonna\, Boyzone\, Usher\, and many more! \nTicket Options:  \n\nBottomless Ticket – £55:\n\n3 hours of show-stopping entertainment!\n90 minutes of bottomless pizza\, prosecco\, and beer!\n\n\nStandard Ticket – £25\n\n3 hours of fantastic entertainment!\n1 glass of bubbly prosecco to kickstart the fun.\nYour choice of one mouth-watering pizza.\n\n\n\nEssential Info: \n\nTickets are a must for entry and are non-refundable.\nGuests will need to leave the venue once the event wraps up.\nBottomless starts 14:30 and ends at 16:00. Please ensure you arrive promptly to avoid missing valuable bottomless time.\nWe run an over 25 policy.\nWe unfortunately don’t accept stag/hen parties.\nAll guests in your party must purchase the same ticket type else we cannot guarantee you’ll be seated together.\nSmaller groups may be in shared areas.\n\nSo what you waiting for? Dust off those low-rise jeans\, gather your crew\, and get ready for an afternoon of unforgettable 90s vibes! \nSecure your tickets now for the biggest throwback party ever!
URL:https://archerstreet.co.uk/event/back-to-90s-bottomless-brunch-notting-hill-2-2-2/
CATEGORIES:Brunch
ATTACH;FMTTYPE=image/jpeg:https://archerstreet.co.uk/wp-content/uploads/2024/06/AS_Back-to-90s_Banner.jpg
END:VEVENT
END:VCALENDAR