BEGIN:VCALENDAR
VERSION:2.0
PRODID:-//Archer Street - ECPv6.13.2.1//NONSGML v1.0//EN
CALSCALE:GREGORIAN
METHOD:PUBLISH
X-ORIGINAL-URL:https://archerstreet.co.uk
X-WR-CALDESC:Events for Archer Street
REFRESH-INTERVAL;VALUE=DURATION:PT1H
X-Robots-Tag:noindex
X-PUBLISHED-TTL:PT1H
BEGIN:VTIMEZONE
TZID:Europe/London
BEGIN:DAYLIGHT
TZOFFSETFROM:+0000
TZOFFSETTO:+0100
TZNAME:BST
DTSTART:20250330T010000
END:DAYLIGHT
BEGIN:STANDARD
TZOFFSETFROM:+0100
TZOFFSETTO:+0000
TZNAME:GMT
DTSTART:20251026T010000
END:STANDARD
END:VTIMEZONE
BEGIN:VEVENT
DTSTART;TZID=Europe/London:20251004T140000
DTEND;TZID=Europe/London:20251004T170000
DTSTAMP:20260423T023245
CREATED:20250730T170918Z
LAST-MODIFIED:20250925T130934Z
UID:10010095-1759586400-1759597200@archerstreet.co.uk
SUMMARY:ABBA Immersive Brunch\, Notting Hill
DESCRIPTION:Take a Chance on… Brunch?\nJoin us in Archer Street\, Notting Hill\, for this ABBA-inspired immersive brunch. \nBrunch like a Dancing Queen (and king)\, sing\, sip and dance your way through Voulez-Vous\, Super Trouper\, Mamma Mia\, Waterloo and more! \nSequins encouraged\, high notes are a must! \n  \nTicket Options: \n\n£55 Bottomless Ticket – 3 hours of live throwback entertainment\, plus 90 minutes of bottomless pizza\, Prosecco & beer.\n£25 Standard Ticket – 3 hours of live throwback entertainment\, plus a glass of Prosecco on arrival and your choice of pizza.\n\n  \nEssential Info: \n\nTickets are a must for entry and are non-refundable.\nBottomless starts 14:30 and ends at 16:00. Please ensure you arrive promptly to avoid missing valuable bottomless time.\nDue to health and safety\, guests will be asked to depart after the event finishes.\nWe run an over-25 policy.\nWe unfortunately don’t accept stag/hen parties.\nAll guests in your party must purchase the same ticket type\, or else we cannot guarantee you’ll be seated together.\nSmaller groups may be in shared areas.\n\n  \n\n 
URL:https://archerstreet.co.uk/event/abba-immersive-brunch-nottinghill-0410/
CATEGORIES:Brunch
ATTACH;FMTTYPE=image/jpeg:https://archerstreet.co.uk/wp-content/uploads/2025/07/Abba-DMN-v2.jpg
END:VEVENT
BEGIN:VEVENT
DTSTART;TZID=Europe/London:20251004T140000
DTEND;TZID=Europe/London:20251004T170000
DTSTAMP:20260423T023245
CREATED:20250804T092555Z
LAST-MODIFIED:20250929T134527Z
UID:10010128-1759586400-1759597200@archerstreet.co.uk
SUMMARY:Showstopper Musicals Immersive Brunch\, Soho
DESCRIPTION:The perfect bottomless brunch for all theatre lovers!  \nIf you love the theatre as much as we do\, you’re in for a treat at Archer Street Soho’s Showstopper Musicals Immersive Brunch! \nJoin us from 2pm to 5pm and get ready to be dazzled by our incredibly talented team as they perform the greatest hits from stage and screen! All while you enjoy bottomless pizza\, bubbly prosecco\, and refreshing beer. \nExpect to hear the biggest tunes from Chicago\, Cabaret\, Greatest Showman\, Moulin Rouge\, and much more. \nTicket Options: \n\nBottomless Ticket – £55:\n\n3 hours of show-stopping entertainment!\n90 minutes of bottomless pizza\, prosecco\, and beer!\n\n\nStandard Ticket – £25\n\n3 hours of fantastic entertainment!\n1 glass of bubbly prosecco to kickstart the fun.\nYour choice of one mouth-watering pizza.\n\n\n\nImportant Details: \n\n\n\nTickets are a must for entry and are non-refundable.\nBottomless starts at 14:30 and ends at 16:00. Please ensure you arrive promptly to avoid missing valuable bottomless time.\nDue to health and safety\, guests will be asked to depart after the event finishes.\nWe run an over-25 policy.\nWe unfortunately don’t accept stag/hen parties.\nAll guests in your party must purchase the same ticket type\, or else we cannot guarantee you’ll be seated together.\nSmaller groups may be in shared areas.\n\n\n\n  \nSo throw on your best outfit\, gather your friends\, and join us for an unforgettable afternoon of theatre tunes\, fun\, and fabulousness! \nBook your tickets now and don’t miss out on the ultimate musicals brunch experience! \n  \n\n 
URL:https://archerstreet.co.uk/event/showstopper-musicals-immersive-brunch-soho-0410/
LOCATION:Soho
CATEGORIES:Brunch
ATTACH;FMTTYPE=image/jpeg:https://archerstreet.co.uk/wp-content/uploads/2025/08/image002.jpg
END:VEVENT
BEGIN:VEVENT
DTSTART;TZID=Europe/London:20251011T140000
DTEND;TZID=Europe/London:20251011T170000
DTSTAMP:20260423T023245
CREATED:20250731T095017Z
LAST-MODIFIED:20250925T123842Z
UID:10010119-1760191200-1760202000@archerstreet.co.uk
SUMMARY:Back to the 90s Immersive Brunch\, SW11
DESCRIPTION:Join us in Archer Street\, SW11\, as we travel back to the 90s for an afternoon of non-stop throwback hits at this iconic Immersive Brunch! \nNo Scrubs allowed at this brunch – let our talented performers take you on a trip down memory lane\, celebrating an era where Madonna and Mariah ruled the roost as they belt out ’90s throwback anthems. From 2pm to 5pm\, enjoy 90 minutes of bottomless bubbly and beer\, all whilst enjoying 3 hours of live performances from the Archer Street team\, with 90s-inspired entertainment. \nExpect to hear Madonna\, Boyzone\, Usher\, and many more! \nTicket Options:  \n\nBottomless Ticket – £55:\n\n3 hours of show-stopping entertainment!\n90 minutes of bottomless pizza\, prosecco\, and beer!\n\n\nStandard Ticket – £25\n\n3 hours of fantastic entertainment!\n1 glass of bubbly prosecco to kickstart the fun.\nYour choice of one mouth-watering pizza.\n\n\n\nEssential Info: \n\n\n\nTickets are a must for entry and are non-refundable.\nBottomless starts at 14:30 and ends at 16:00. Please ensure you arrive promptly to avoid missing valuable bottomless time.\nDue to health and safety\, guests will be asked to depart after the event finishes.\nWe run an over-25 policy.\nWe unfortunately don’t accept stag/hen parties.\nAll guests in your party must purchase the same ticket type\, or else we cannot guarantee you’ll be seated together.\nSmaller groups may be in shared areas.\n\n\n\nSo what you waiting for? Dust off those low-rise jeans\, gather your crew\, and get ready for an afternoon of unforgettable 90s vibes! \nSecure your tickets now for the biggest throwback party ever! \n  \n\n 
URL:https://archerstreet.co.uk/event/back-to-the-90s-immersive-brunch-sw11-1011/
LOCATION:SW11
CATEGORIES:Brunch
ATTACH;FMTTYPE=image/jpeg:https://archerstreet.co.uk/wp-content/uploads/2024/06/AS_Back-to-90s_Banner.jpg
END:VEVENT
BEGIN:VEVENT
DTSTART;TZID=Europe/London:20251011T140000
DTEND;TZID=Europe/London:20251011T170000
DTSTAMP:20260423T023245
CREATED:20250731T095813Z
LAST-MODIFIED:20250929T134901Z
UID:10010121-1760191200-1760202000@archerstreet.co.uk
SUMMARY:Back to the 90s Immersive Brunch\, Soho
DESCRIPTION:Join us in Archer Street\, Soho\, as we travel back to the 90s for an afternoon of non-stop throwback hits at this iconic Immersive Brunch! \nNo Scrubs allowed at this brunch – let our talented performers take you on a trip down memory lane\, celebrating an era where Madonna and Mariah ruled the roost as they belt out ’90s throwback anthems. From 2pm to 5pm\, enjoy 90 minutes of bottomless bubbly and beer\, all whilst enjoying 3 hours of live performances from the Archer Street team\, with 90s-inspired entertainment. \nExpect to hear Madonna\, Boyzone\, Usher\, and many more! \nTicket Options:  \n\nBottomless Ticket – £55:\n\n3 hours of show-stopping entertainment!\n90 minutes of bottomless pizza\, prosecco\, and beer!\n\n\nStandard Ticket – £25\n\n3 hours of fantastic entertainment!\n1 glass of bubbly prosecco to kickstart the fun.\nYour choice of one mouth-watering pizza.\n\n\n\nEssential Info: \n\n\n\nTickets are a must for entry and are non-refundable.\nBottomless starts at 14:30 and ends at 16:00. Please ensure you arrive promptly to avoid missing valuable bottomless time.\nDue to health and safety\, guests will be asked to depart after the event finishes.\nWe run an over-25 policy.\nWe unfortunately don’t accept stag/hen parties.\nAll guests in your party must purchase the same ticket type\, or else we cannot guarantee you’ll be seated together.\nSmaller groups may be in shared areas.\n\n\n\nSo what you waiting for? Dust off those low-rise jeans\, gather your crew\, and get ready for an afternoon of unforgettable 90s vibes! \nSecure your tickets now for the biggest throwback party ever! \n  \n\n 
URL:https://archerstreet.co.uk/event/back-to-the-90s-immersive-brunch-soho-1110/
LOCATION:Soho
CATEGORIES:Brunch
ATTACH;FMTTYPE=image/jpeg:https://archerstreet.co.uk/wp-content/uploads/2024/06/AS_Back-to-90s_Banner.jpg
END:VEVENT
BEGIN:VEVENT
DTSTART;TZID=Europe/London:20251011T140000
DTEND;TZID=Europe/London:20251011T170000
DTSTAMP:20260423T023245
CREATED:20250731T102246Z
LAST-MODIFIED:20250929T135027Z
UID:10010124-1760191200-1760202000@archerstreet.co.uk
SUMMARY:Blame It On The Boogie Immersive Brunch\, Notting Hill
DESCRIPTION:Dust off those flares and throw on those dancing shoes because we’re turning back time with our Blame It On The Boogie Bottomless Brunch at Archer Street Notting Hill! \nJoin us for an unforgettable afternoon of non-stop Disco\, Soul\, and Motown from across the golden era of the 70s and 80s\, as our talented cast of West End performers serve live vocals to ultimate classics – sure to have you up on the tables like the Dancing Queen you truly are! \nFrom 2pm to 5pm\, you’ll be living your best life as our DJ spins classics like ‘Stayin’ Alive’\, ‘Le Freak’\, and ‘Superstition’ – all while you enjoy 90 minutes of bottomless bubbly Prosecco\, beer\, and pizza. The ultimate weekend groove-fest! \nExpect a mix of legendary tracks that’ll have you out of your seat and on the dancefloor in no time. It’s three hours of pure fun at our jam-packed bottomless brunch – the vibe is unbeatable! \nSo round up your friends and get ready to ‘Turn The Beat Around’ with this fun-filled Saturday afternoon. It’s time to dance\, drink\, and live for the weekend! \n\n  \nTicket Options: \n\n\n\n£55 Bottomless Ticket – 3 hours of live entertainment\, with 90 minutes of bottomless pizza\, prosecco\, and beer.\n£25 Standard Ticket – 3 hours of live entertainment\, with a glass of prosecco on arrival and your fave pizza to keep you fueled!\n\n\n\n  \nEssential Info: \n\nTickets are a must for entry and are non-refundable.\nBottomless starts at 14:30 and ends at 16:00. Please ensure you arrive promptly to avoid missing valuable bottomless time.\nDue to health and safety\, guests will be asked to depart after the event finishes.\nWe run an over-25 policy.\nWe unfortunately don’t accept stag/hen parties.\nAll guests in your party must purchase the same ticket type\, or else we cannot guarantee you’ll be seated together.\nSmaller groups may be in shared areas.\n\n\n  \n\n  \n \n 
URL:https://archerstreet.co.uk/event/blame-it-on-the-boogie-immersive-brunch-notting-hill-1110/
CATEGORIES:Brunch
ATTACH;FMTTYPE=image/jpeg:https://archerstreet.co.uk/wp-content/uploads/2024/08/Blame-It-On-The-Boogie-Banner.jpg
END:VEVENT
BEGIN:VEVENT
DTSTART;TZID=Europe/London:20251012T140000
DTEND;TZID=Europe/London:20251012T170000
DTSTAMP:20260423T023245
CREATED:20250812T073902Z
LAST-MODIFIED:20250929T132457Z
UID:10010135-1760277600-1760288400@archerstreet.co.uk
SUMMARY:Disney Family Immersive Brunch\, Notting Hill
DESCRIPTION:Sundays 2-5pm\nAdult ticket £15\n*Child ticket £10\nStep into a world of magic and music at our Disney Family Brunch. \nGet ready to be taken to infinity and beyond with live performances of all your favourite Disney hits – from Frozen and The Lion King\, to Beauty & The Beast\, The Little Mermaid and beyond. The perfect Sunday treat for kids and grown-ups alike! \n✨ Sing along to all your Disney favourites with live performances from our talented West End cast — featuring songs from Frozen\, The Lion King\, Beauty & The Beast\, The Little Mermaid\, and more! \n👨‍👩‍👧‍👦 A fun-filled event for the whole family.\n🎭 Incredible live singing and performances.\n🧚‍♀️ Disney magic in every moment. \nWhether you’re young or just young at heart\, come dressed as your favourite Disney character and enjoy 3 magical hours of music\, laughter\, and memories that will last a lifetime. \n*Under 3s go free. \n  \nTicket Options:\n£15 Adult – 3 hours of live entertainment\, a glass of prosecco or beer and pizza. \n£10 Kids (3+ years) – 3 hours of live entertainment\, pizza and a drink. \n  \nT&C’s\nChildren under 16 years must be accompanied by an adult. \nUnder 3 years go free (max of one per family booking). A ticket must be purchased (at no cost). \nTickets are a must for entry and are non-refundable. \nAll guests in your party must purchase the same ticket type\, or else we cannot guarantee you’ll be seated together. \nSupervising adult-to-child ratios sometimes applies. \nIf children behave disruptively or unsafe situations arise\, the guardian (or supervisor) is ultimately responsible for how they’re managed and ensuring everyone’s safety. \nMedical conditions\, allergies\, or special needs should be disclosed at booking; organisers may restrict participation in certain activities for safety. \nDue to health and safety\, guests will be asked to depart after the event finishes. \n  \n\n\n\n 
URL:https://archerstreet.co.uk/event/disney-family-immersive-brunch-notting-hill-1210/
CATEGORIES:Brunch
ATTACH;FMTTYPE=image/jpeg:https://archerstreet.co.uk/wp-content/uploads/2025/08/Disney-family-DMN-ASWebsite.jpg
END:VEVENT
BEGIN:VEVENT
DTSTART;TZID=Europe/London:20251018T140000
DTEND;TZID=Europe/London:20251018T170000
DTSTAMP:20260423T023245
CREATED:20250730T164804Z
LAST-MODIFIED:20250929T135224Z
UID:10010094-1760796000-1760806800@archerstreet.co.uk
SUMMARY:ABBA Immersive Brunch\, Soho
DESCRIPTION:Take a Chance on… Brunch?\nJoin us at Archer Street\, Soho\, for this ABBA-inspired immersive brunch. \nBrunch like a Dancing Queen (and king)\, sing\, sip and dance your way through Voulez-Vous\, Super Trouper\, Mamma Mia\, Waterloo and more! \nSequins encouraged\, high notes are a must! \n  \nTicket Options: \n\n£55 Bottomless Ticket – 3 hours of live throwback entertainment\, plus 90 minutes of bottomless pizza\, Prosecco & beer.\n£25 Standard Ticket – 3 hours of live throwback entertainment\, plus a glass of Prosecco on arrival and your choice of pizza.\n\n  \nEssential Info: \n\nTickets are a must for entry and are non-refundable.\nBottomless starts 14:30 and ends at 16:00. Please ensure you arrive promptly to avoid missing valuable bottomless time.\nDue to health and safety\, guests will be asked to depart after the event finishes.\nWe run an over-25 policy.\nWe unfortunately don’t accept stag/hen parties.\nAll guests in your party must purchase the same ticket type\, or else we cannot guarantee you’ll be seated together.\nSmaller groups may be in shared areas.\n\n  \n\n \n\n\n 
URL:https://archerstreet.co.uk/event/abba-immersive-brunch-soho-1810/
LOCATION:Soho
CATEGORIES:Brunch
ATTACH;FMTTYPE=image/jpeg:https://archerstreet.co.uk/wp-content/uploads/2025/07/Abba-DMN-v2.jpg
END:VEVENT
BEGIN:VEVENT
DTSTART;TZID=Europe/London:20251018T140000
DTEND;TZID=Europe/London:20251018T170000
DTSTAMP:20260423T023245
CREATED:20250731T094223Z
LAST-MODIFIED:20250925T122959Z
UID:10010117-1760796000-1760806800@archerstreet.co.uk
SUMMARY:Back to the 90s Immersive Brunch\, Notting Hill
DESCRIPTION:Join us in Archer Street\, Notting Hill\, as we travel back to the 90s for an afternoon of non-stop throwback hits at this iconic Immersive Brunch! \nNo Scrubs allowed at this brunch – let our talented performers take you on a trip down memory lane\, celebrating an era where Madonna and Mariah ruled the roost as they belt out ’90s throwback anthems. From 2pm to 5pm\, enjoy 90 minutes of bottomless bubbly and beer\, all whilst enjoying 3 hours of live performances from the Archer Street team\, with 90s-inspired entertainment. \nExpect to hear Madonna\, Boyzone\, Usher\, and many more! \nTicket Options:  \n\nBottomless Ticket – £55:\n\n3 hours of show-stopping entertainment!\n90 minutes of bottomless pizza\, prosecco\, and beer!\n\n\nStandard Ticket – £25\n\n3 hours of fantastic entertainment!\n1 glass of bubbly prosecco to kickstart the fun.\nYour choice of one mouth-watering pizza.\n\n\n\nEssential Info: \n\n\n\nTickets are a must for entry and are non-refundable.\nBottomless starts at 14:30 and ends at 16:00. Please ensure you arrive promptly to avoid missing valuable bottomless time.\nDue to health and safety\, guests will be asked to depart after the event finishes.\nWe run an over-25 policy.\nWe unfortunately don’t accept stag/hen parties.\nAll guests in your party must purchase the same ticket type\, or else we cannot guarantee you’ll be seated together.\nSmaller groups may be in shared areas.\n\n\n\nSo what you waiting for? Dust off those low-rise jeans\, gather your crew\, and get ready for an afternoon of unforgettable 90s vibes! \nSecure your tickets now for the biggest throwback party ever! \n 
URL:https://archerstreet.co.uk/event/back-to-the-90s-immersive-brunch-notting-hill-1810/
CATEGORIES:Brunch
ATTACH;FMTTYPE=image/jpeg:https://archerstreet.co.uk/wp-content/uploads/2024/06/AS_Back-to-90s_Banner.jpg
END:VEVENT
BEGIN:VEVENT
DTSTART;TZID=Europe/London:20251025T140000
DTEND;TZID=Europe/London:20251025T170000
DTSTAMP:20260423T023245
CREATED:20250731T102342Z
LAST-MODIFIED:20250929T135103Z
UID:10010125-1761400800-1761411600@archerstreet.co.uk
SUMMARY:Blame It On The Boogie Immersive Brunch\, Notting Hill
DESCRIPTION:Dust off those flares and throw on those dancing shoes because we’re turning back time with our Blame It On The Boogie Bottomless Brunch at Archer Street Notting Hill! \nJoin us for an unforgettable afternoon of non-stop Disco\, Soul\, and Motown from across the golden era of the 70s and 80s\, as our talented cast of West End performers serve live vocals to ultimate classics – sure to have you up on the tables like the Dancing Queen you truly are! \nFrom 2pm to 5pm\, you’ll be living your best life as our DJ spins classics like ‘Stayin’ Alive’\, ‘Le Freak’\, and ‘Superstition’ – all while you enjoy 90 minutes of bottomless bubbly Prosecco\, beer\, and pizza. The ultimate weekend groove-fest! \nExpect a mix of legendary tracks that’ll have you out of your seat and on the dancefloor in no time. It’s three hours of pure fun at our jam-packed bottomless brunch – the vibe is unbeatable! \nSo round up your friends and get ready to ‘Turn The Beat Around’ with this fun-filled Saturday afternoon. It’s time to dance\, drink\, and live for the weekend! \n\n  \nTicket Options: \n\n\n\n£55 Bottomless Ticket – 3 hours of live entertainment\, with 90 minutes of bottomless pizza\, prosecco\, and beer.\n£25 Standard Ticket – 3 hours of live entertainment\, with a glass of prosecco on arrival and your fave pizza to keep you fueled!\n\n\n\n  \nEssential Info: \n\nTickets are a must for entry and are non-refundable.\nBottomless starts at 14:30 and ends at 16:00. Please ensure you arrive promptly to avoid missing valuable bottomless time.\nDue to health and safety\, guests will be asked to depart after the event finishes.\nWe run an over-25 policy.\nWe unfortunately don’t accept stag/hen parties.\nAll guests in your party must purchase the same ticket type\, or else we cannot guarantee you’ll be seated together.\nSmaller groups may be in shared areas.\n\n\n  \n\n \n \n 
URL:https://archerstreet.co.uk/event/blame-it-on-the-boogie-immersive-brunch-notting-hill-2510/
CATEGORIES:Brunch
ATTACH;FMTTYPE=image/jpeg:https://archerstreet.co.uk/wp-content/uploads/2024/08/Blame-It-On-The-Boogie-Banner.jpg
END:VEVENT
BEGIN:VEVENT
DTSTART;TZID=Europe/London:20251025T140000
DTEND;TZID=Europe/London:20251025T170000
DTSTAMP:20260423T023245
CREATED:20250806T114137Z
LAST-MODIFIED:20250929T140033Z
UID:10010131-1761400800-1761411600@archerstreet.co.uk
SUMMARY:Pop Divas Immersive Brunch\, Soho
DESCRIPTION:Get ready to strut\, sing\, and SLAY at the ultimate Saturday party!  \nFrom the moment you walk in\, it’s non-stop pop magic\, with iconic anthems and throwback bangers from the queens and kings of the stage. \nWe’re talking Beyoncé\, Britney\, Gaga\, Freddie — and of course\, Mariah\, Whitney\, Rihanna\, Madonna\, Cher and even a little Celine for the drama lovers. \nTicket Options:  \n\nBottomless Ticket – £55:\n\n3 hours of show-stopping entertainment!\n90 minutes of bottomless pizza\, prosecco\, and beer!\n\n\nStandard Ticket – £25\n\n3 hours of fantastic entertainment!\n1 glass of bubbly prosecco to kickstart the fun.\nYour choice of one mouth-watering pizza.\n\n\n\nEssential Info: \n\n\n\nTickets are a must for entry and are non-refundable.\nBottomless starts at 14:30 and ends at 16:00. Please ensure you arrive promptly to avoid missing valuable bottomless time.\nDue to health and safety\, guests will be asked to depart after the event finishes.\nWe run an over-25 policy.\nWe unfortunately don’t accept stag/hen parties.\nAll guests in your party must purchase the same ticket type\, or else we cannot guarantee you’ll be seated together.\nSmaller groups may be in shared areas.\n\n\n\n  \n\n 
URL:https://archerstreet.co.uk/event/pop-divas-immersive-brunch-soho-2510/
LOCATION:Soho
CATEGORIES:Brunch
ATTACH;FMTTYPE=image/jpeg:https://archerstreet.co.uk/wp-content/uploads/2025/08/image003.jpg
END:VEVENT
BEGIN:VEVENT
DTSTART;TZID=Europe/London:20251026T140000
DTEND;TZID=Europe/London:20251026T170000
DTSTAMP:20260423T023245
CREATED:20250812T074337Z
LAST-MODIFIED:20250929T132327Z
UID:10010136-1761487200-1761498000@archerstreet.co.uk
SUMMARY:Disney Family Immersive Brunch\, Notting Hill
DESCRIPTION:Sundays 2-5pm\nAdult ticket £15\n*Child ticket £10\nStep into a world of magic and music at our Disney Family Brunch. \nGet ready to be taken to infinity and beyond with live performances of all your favourite Disney hits – from Frozen and The Lion King\, to Beauty & The Beast\, The Little Mermaid and beyond. The perfect Sunday treat for kids and grown-ups alike! \n✨ Sing along to all your Disney favourites with live performances from our talented West End cast — featuring songs from Frozen\, The Lion King\, Beauty & The Beast\, The Little Mermaid\, and more! \n👨‍👩‍👧‍👦 A fun-filled event for the whole family.\n🎭 Incredible live singing and performances.\n🧚‍♀️ Disney magic in every moment. \nWhether you’re young or just young at heart\, come dressed as your favourite Disney character and enjoy 3 magical hours of music\, laughter\, and memories that will last a lifetime. \n*Under 3s go free. \n  \nTicket Options:\n£15 Adult – 3 hours of live entertainment\, a glass of prosecco or beer and pizza. \n£10 Kids (3+ years) – 3 hours of live entertainment\, pizza and a drink. \n  \nT&C’s\nChildren under 16 years must be accompanied by an adult. \nUnder 3 years go free (max of one per family booking). A ticket must be purchased (at no cost). \nTickets are a must for entry and are non-refundable. \nAll guests in your party must purchase the same ticket type\, or else we cannot guarantee you’ll be seated together. \nSupervising adult-to-child ratios sometimes applies. \nIf children behave disruptively or unsafe situations arise\, the guardian (or supervisor) is ultimately responsible for how they’re managed and ensuring everyone’s safety. \nMedical conditions\, allergies\, or special needs should be disclosed at booking; organisers may restrict participation in certain activities for safety. \nDue to health and safety\, guests will be asked to depart after the event finishes. \n  \n\n\n\n 
URL:https://archerstreet.co.uk/event/disney-family-immersive-brunch-notting-hill-2610/
CATEGORIES:Brunch
ATTACH;FMTTYPE=image/jpeg:https://archerstreet.co.uk/wp-content/uploads/2025/08/Disney-family-DMN-ASWebsite.jpg
END:VEVENT
END:VCALENDAR