BEGIN:VCALENDAR
VERSION:2.0
PRODID:-//Archer Street - ECPv6.13.2.1//NONSGML v1.0//EN
CALSCALE:GREGORIAN
METHOD:PUBLISH
X-ORIGINAL-URL:https://archerstreet.co.uk
X-WR-CALDESC:Events for Archer Street
REFRESH-INTERVAL;VALUE=DURATION:PT1H
X-Robots-Tag:noindex
X-PUBLISHED-TTL:PT1H
BEGIN:VTIMEZONE
TZID:Europe/London
BEGIN:DAYLIGHT
TZOFFSETFROM:+0000
TZOFFSETTO:+0100
TZNAME:BST
DTSTART:20250330T010000
END:DAYLIGHT
BEGIN:STANDARD
TZOFFSETFROM:+0100
TZOFFSETTO:+0000
TZNAME:GMT
DTSTART:20251026T010000
END:STANDARD
END:VTIMEZONE
BEGIN:VEVENT
DTSTART;TZID=Europe/London:20251206T140000
DTEND;TZID=Europe/London:20251206T170000
DTSTAMP:20260422T073011
CREATED:20250730T173527Z
LAST-MODIFIED:20250929T115334Z
UID:10010099-1765029600-1765040400@archerstreet.co.uk
SUMMARY:Christmas Immersive Brunch at Archer Street\, Soho
DESCRIPTION:🎅🍕 Elevate your festive celebrations every Saturday from November 22nd to December 20th at Archer Street\, Soho! 🍕🎅 \nJoin us from 2-5pm to unwrap the spirit of Christmas at our all-singing\, all-dancing bottomless brunch! With live vocal performances of all your favourite Christmas songs 🎄 \nFor just £55 a ticket\, indulge in bottomless pizza\, Prosecco\, mulled wine\, and beer for 90 minutes\, all while being serenaded by our talented singers performing your favourite Christmas tunes. \nIt’s a jolly good time waiting for you! \nBook your spot today. 🥂🎶🍾 \n  \nEssential Info: \n\nTickets are a must for entry and are non-refundable.\nBottomless starts at 14:30 and ends at 16:00. Please ensure you arrive promptly to avoid missing valuable bottomless time.\nDue to health and safety\, guests will be asked to depart after the event finishes.\nWe run an over-25 policy.\nWe unfortunately don’t accept stag/hen parties.\nAll guests in your party must purchase the same ticket type\, or else we cannot guarantee you’ll be seated together.\nSmaller groups may be in shared areas.\n\n  \n\n 
URL:https://archerstreet.co.uk/event/christmas-immersive-brunch-at-archer-street-soho-0612/
LOCATION:Soho
CATEGORIES:Brunch
ATTACH;FMTTYPE=image/jpeg:https://archerstreet.co.uk/wp-content/uploads/2025/08/AS-Christmas-2.jpg
END:VEVENT
BEGIN:VEVENT
DTSTART;TZID=Europe/London:20251206T140000
DTEND;TZID=Europe/London:20251206T170000
DTSTAMP:20260422T073011
CREATED:20250731T083134Z
LAST-MODIFIED:20250929T115247Z
UID:10010104-1765029600-1765040400@archerstreet.co.uk
SUMMARY:Christmas Immersive Brunch at Archer Street\, Notting Hill
DESCRIPTION:🎅🍕 Elevate your festive celebrations every Saturday from November 22nd to December 20th at Archer Street\, Notting Hill! 🍕🎅 \nJoin us from 2-5pm to unwrap the spirit of Christmas at our all-singing\, all-dancing bottomless brunch! With live vocal performances of all your favourite Christmas songs 🎄 \nFor just £55 a ticket\, indulge in bottomless pizza\, Prosecco\, mulled wine\, and beer for 90 minutes\, all while being serenaded by our talented singers performing your favourite Christmas tunes. \nIt’s a jolly good time waiting for you! \nBook your spot today. 🥂🎶🍾 \n  \nEssential Info: \n\nTickets are a must for entry and are non-refundable.\nBottomless starts at 14:30 and ends at 16:00. Please ensure you arrive promptly to avoid missing valuable bottomless time.\nDue to health and safety\, guests will be asked to depart after the event finishes.\nWe run an over-25 policy.\nWe unfortunately don’t accept stag/hen parties.\nAll guests in your party must purchase the same ticket type\, or else we cannot guarantee you’ll be seated together.\nSmaller groups may be in shared areas.\n\n  \n\n 
URL:https://archerstreet.co.uk/event/christmas-immersive-brunch-at-archer-street-notting-hill-0612/
CATEGORIES:Brunch
ATTACH;FMTTYPE=image/jpeg:https://archerstreet.co.uk/wp-content/uploads/2025/08/AS-Christmas-2.jpg
END:VEVENT
BEGIN:VEVENT
DTSTART;TZID=Europe/London:20251206T140000
DTEND;TZID=Europe/London:20251206T170000
DTSTAMP:20260422T073011
CREATED:20250731T084411Z
LAST-MODIFIED:20250929T115006Z
UID:10010109-1765029600-1765040400@archerstreet.co.uk
SUMMARY:Christmas Immersive Brunch at Archer Street\, SW11
DESCRIPTION:🎅🍕 Elevate your festive celebrations every Saturday from November 22nd to December 20th at Archer Street\, SW11! 🍕🎅 \nJoin us from 2-5pm to unwrap the spirit of Christmas at our all-singing\, all-dancing bottomless brunch! With live vocal performances of all your favourite Christmas songs 🎄 \nFor just £55 a ticket\, indulge in bottomless pizza\, Prosecco\, mulled wine\, and beer for 90 minutes\, all while being serenaded by our talented singers performing your favourite Christmas tunes. \nIt’s a jolly good time waiting for you! \nBook your spot today. 🥂🎶🍾 \n  \nEssential Info: \n\nTickets are a must for entry and are non-refundable.\nBottomless starts at 14:30 and ends at 16:00. Please ensure you arrive promptly to avoid missing valuable bottomless time.\nDue to health and safety\, guests will be asked to depart after the event finishes.\nWe run an over-25 policy.\nWe unfortunately don’t accept stag/hen parties.\nAll guests in your party must purchase the same ticket type\, or else we cannot guarantee you’ll be seated together.\nSmaller groups may be in shared areas.\n\n  \n\n \n\n\n 
URL:https://archerstreet.co.uk/event/christmas-immersive-brunch-at-archer-street-sw11-0612-2/
LOCATION:SW11
CATEGORIES:Brunch
ATTACH;FMTTYPE=image/jpeg:https://archerstreet.co.uk/wp-content/uploads/2025/08/AS-Christmas-2.jpg
END:VEVENT
BEGIN:VEVENT
DTSTART;TZID=Europe/London:20251213T140000
DTEND;TZID=Europe/London:20251213T170000
DTSTAMP:20260422T073011
CREATED:20250730T173627Z
LAST-MODIFIED:20250929T114727Z
UID:10010100-1765634400-1765645200@archerstreet.co.uk
SUMMARY:Christmas Immersive Brunch at Archer Street\, Soho
DESCRIPTION:🎅🍕 Elevate your festive celebrations every Saturday from November 22nd to December 20th at Archer Street\, Soho! 🍕🎅 \nJoin us from 2-5pm to unwrap the spirit of Christmas at our all-singing\, all-dancing bottomless brunch! With live vocal performances of all your favourite Christmas songs 🎄 \nFor just £55 a ticket\, indulge in bottomless pizza\, Prosecco\, mulled wine\, and beer for 90 minutes\, all while being serenaded by our talented singers performing your favourite Christmas tunes. \nIt’s a jolly good time waiting for you! \nBook your spot today. 🥂🎶🍾 \n  \nEssential Info: \n\nTickets are a must for entry and are non-refundable.\nBottomless starts at 14:30 and ends at 16:00. Please ensure you arrive promptly to avoid missing valuable bottomless time.\nDue to health and safety\, guests will be asked to depart after the event finishes.\nWe run an over-25 policy.\nWe unfortunately don’t accept stag/hen parties.\nAll guests in your party must purchase the same ticket type\, or else we cannot guarantee you’ll be seated together.\nSmaller groups may be in shared areas.\n\n  \n\n 
URL:https://archerstreet.co.uk/event/christmas-immersive-brunch-at-archer-street-soho-1312/
LOCATION:Soho
CATEGORIES:Brunch
ATTACH;FMTTYPE=image/jpeg:https://archerstreet.co.uk/wp-content/uploads/2025/08/AS-Christmas-2.jpg
END:VEVENT
BEGIN:VEVENT
DTSTART;TZID=Europe/London:20251213T140000
DTEND;TZID=Europe/London:20251213T170000
DTSTAMP:20260422T073011
CREATED:20250731T081058Z
LAST-MODIFIED:20250929T114621Z
UID:10010102-1765634400-1765645200@archerstreet.co.uk
SUMMARY:Christmas Immersive Brunch at Archer Street\, Notting Hill
DESCRIPTION:🎅🍕 Elevate your festive celebrations every Saturday from November 22nd to December 20th at Archer Street\, Notting Hill! 🍕🎅 \nJoin us from 2-5pm to unwrap the spirit of Christmas at our all-singing\, all-dancing bottomless brunch! With live vocal performances of all your favourite Christmas songs 🎄 \nFor just £55 a ticket\, indulge in bottomless pizza\, Prosecco\, mulled wine\, and beer for 90 minutes\, all while being serenaded by our talented singers performing your favourite Christmas tunes. \nIt’s a jolly good time waiting for you! \nBook your spot today. 🥂🎶🍾 \n  \nEssential Info: \n\nTickets are a must for entry and are non-refundable.\nBottomless starts at 14:30 and ends at 16:00. Please ensure you arrive promptly to avoid missing valuable bottomless time.\nDue to health and safety\, guests will be asked to depart after the event finishes.\nWe run an over-25 policy.\nWe unfortunately don’t accept stag/hen parties.\nAll guests in your party must purchase the same ticket type\, or else we cannot guarantee you’ll be seated together.\nSmaller groups may be in shared areas.\n\n 
URL:https://archerstreet.co.uk/event/christmas-immersive-brunch-at-archer-street-nottinghill-1312/
CATEGORIES:Brunch
ATTACH;FMTTYPE=image/jpeg:https://archerstreet.co.uk/wp-content/uploads/2025/08/AS-Christmas-2.jpg
END:VEVENT
BEGIN:VEVENT
DTSTART;TZID=Europe/London:20251213T140000
DTEND;TZID=Europe/London:20251213T170000
DTSTAMP:20260422T073011
CREATED:20250731T084730Z
LAST-MODIFIED:20250929T114543Z
UID:10010110-1765634400-1765645200@archerstreet.co.uk
SUMMARY:Christmas Immersive Brunch at Archer Street\, SW11
DESCRIPTION:🎅🍕 Elevate your festive celebrations every Saturday from November 22nd to December 20th at Archer Street\, SW11! 🍕🎅 \nJoin us from 2-5pm to unwrap the spirit of Christmas at our all-singing\, all-dancing bottomless brunch! With live vocal performances of all your favourite Christmas songs 🎄 \nFor just £55 a ticket\, indulge in bottomless pizza\, Prosecco\, mulled wine\, and beer for 90 minutes\, all while being serenaded by our talented singers performing your favourite Christmas tunes. \nIt’s a jolly good time waiting for you! \nBook your spot today. 🥂🎶🍾 \n  \nEssential Info: \n\nTickets are a must for entry and are non-refundable.\nBottomless starts at 14:30 and ends at 16:00. Please ensure you arrive promptly to avoid missing valuable bottomless time.\nDue to health and safety\, guests will be asked to depart after the event finishes.\nWe run an over-25 policy.\nWe unfortunately don’t accept stag/hen parties.\nAll guests in your party must purchase the same ticket type\, or else we cannot guarantee you’ll be seated together.\nSmaller groups may be in shared areas.\n  \n\n  \n\n\n 
URL:https://archerstreet.co.uk/event/christmas-immersive-brunch-at-archer-street-sw11-1312/
LOCATION:SW11
CATEGORIES:Brunch
ATTACH;FMTTYPE=image/jpeg:https://archerstreet.co.uk/wp-content/uploads/2025/08/AS-Christmas-2.jpg
END:VEVENT
BEGIN:VEVENT
DTSTART;TZID=Europe/London:20251220T140000
DTEND;TZID=Europe/London:20251220T170000
DTSTAMP:20260422T073011
CREATED:20250730T174621Z
LAST-MODIFIED:20250929T112859Z
UID:10010101-1766239200-1766250000@archerstreet.co.uk
SUMMARY:Christmas Immersive Brunch at Archer Street\, Soho
DESCRIPTION:🎅🍕 Elevate your festive celebrations every Saturday from November 22nd to December 20th at Archer Street\, Soho! 🍕🎅 \nJoin us from 2-5pm to unwrap the spirit of Christmas at our all-singing\, all-dancing bottomless brunch! With live vocal performances of all your favourite Christmas songs 🎄 \nFor just £55 a ticket\, indulge in bottomless pizza\, Prosecco\, mulled wine\, and beer for 90 minutes\, all while being serenaded by our talented singers performing your favourite Christmas tunes. \nIt’s a jolly good time waiting for you! \nBook your spot today. 🥂🎶🍾 \n  \nEssential Info: \n\nTickets are a must for entry and are non-refundable.\nBottomless starts at 14:30 and ends at 16:00. Please ensure you arrive promptly to avoid missing valuable bottomless time.\nDue to health and safety\, guests will be asked to depart after the event finishes.\nWe run an over-25 policy.\nWe unfortunately don’t accept stag/hen parties.\nAll guests in your party must purchase the same ticket type\, or else we cannot guarantee you’ll be seated together.\nSmaller groups may be in shared areas.\n\n  \n\n 
URL:https://archerstreet.co.uk/event/christmas-immersive-brunch-at-archer-street-soho-2012/
LOCATION:Soho
CATEGORIES:Brunch
ATTACH;FMTTYPE=image/jpeg:https://archerstreet.co.uk/wp-content/uploads/2025/08/AS-Christmas-2.jpg
END:VEVENT
BEGIN:VEVENT
DTSTART;TZID=Europe/London:20251220T140000
DTEND;TZID=Europe/London:20251220T170000
DTSTAMP:20260422T073011
CREATED:20250731T083008Z
LAST-MODIFIED:20250929T112305Z
UID:10010103-1766239200-1766250000@archerstreet.co.uk
SUMMARY:Christmas Immersive Brunch at Archer Street\, Notting Hill
DESCRIPTION:🎅🍕 Elevate your festive celebrations every Saturday from November 22nd to December 20th at Archer Street\, Notting Hill! 🍕🎅 \nJoin us from 2-5pm to unwrap the spirit of Christmas at our all-singing\, all-dancing bottomless brunch! With live vocal performances of all your favourite Christmas songs 🎄 \nFor just £55 a ticket\, indulge in bottomless pizza\, Prosecco\, mulled wine\, and beer for 90 minutes\, all while being serenaded by our talented singers performing your favourite Christmas tunes. \nIt’s a jolly good time waiting for you! \nBook your spot today. 🥂🎶🍾 \n  \nEssential Info: \n\nTickets are a must for entry and are non-refundable.\nBottomless starts at 14:30 and ends at 16:00. Please ensure you arrive promptly to avoid missing valuable bottomless time.\nDue to health and safety\, guests will be asked to depart after the event finishes.\nWe run an over-25 policy.\nWe unfortunately don’t accept stag/hen parties.\nAll guests in your party must purchase the same ticket type\, or else we cannot guarantee you’ll be seated together.\nSmaller groups may be in shared areas.\n\n  \n\n 
URL:https://archerstreet.co.uk/event/christmas-immersive-brunch-at-archer-street-notting-hill-2012/
CATEGORIES:Brunch
ATTACH;FMTTYPE=image/jpeg:https://archerstreet.co.uk/wp-content/uploads/2025/08/AS-Christmas-2.jpg
END:VEVENT
BEGIN:VEVENT
DTSTART;TZID=Europe/London:20251220T140000
DTEND;TZID=Europe/London:20251220T170000
DTSTAMP:20260422T073011
CREATED:20250731T084947Z
LAST-MODIFIED:20250929T114503Z
UID:10010111-1766239200-1766250000@archerstreet.co.uk
SUMMARY:Christmas Immersive Brunch at Archer Street\, SW11
DESCRIPTION:🎅🍕 Elevate your festive celebrations every Saturday from November 22nd to December 20th at Archer Street\, SW11! 🍕🎅 \nJoin us from 2-5pm to unwrap the spirit of Christmas at our all-singing\, all-dancing bottomless brunch! With live vocal performances of all your favourite Christmas songs 🎄 \nFor just £55 a ticket\, indulge in bottomless pizza\, Prosecco\, mulled wine\, and beer for 90 minutes\, all while being serenaded by our talented singers performing your favourite Christmas tunes. \nIt’s a jolly good time waiting for you! \nBook your spot today. 🥂🎶🍾 \n  \nEssential Info: \n\nTickets are a must for entry and are non-refundable.\nBottomless starts at 14:30 and ends at 16:00. Please ensure you arrive promptly to avoid missing valuable bottomless time.\nDue to health and safety\, guests will be asked to depart after the event finishes.\nWe run an over-25 policy.\nWe unfortunately don’t accept stag/hen parties.\nAll guests in your party must purchase the same ticket type\, or else we cannot guarantee you’ll be seated together.\nSmaller groups may be in shared areas.\n\n  \n\n  \n\n\n 
URL:https://archerstreet.co.uk/event/christmas-immersive-brunch-at-archer-street-sw11-2012/
LOCATION:SW11
CATEGORIES:Brunch
ATTACH;FMTTYPE=image/jpeg:https://archerstreet.co.uk/wp-content/uploads/2025/08/AS-Christmas-2.jpg
END:VEVENT
END:VCALENDAR