BEGIN:VCALENDAR
VERSION:2.0
PRODID:-//Archer Street - ECPv6.13.2.1//NONSGML v1.0//EN
CALSCALE:GREGORIAN
METHOD:PUBLISH
X-ORIGINAL-URL:https://archerstreet.co.uk
X-WR-CALDESC:Events for Archer Street
REFRESH-INTERVAL;VALUE=DURATION:PT1H
X-Robots-Tag:noindex
X-PUBLISHED-TTL:PT1H
BEGIN:VTIMEZONE
TZID:Europe/London
BEGIN:DAYLIGHT
TZOFFSETFROM:+0000
TZOFFSETTO:+0100
TZNAME:BST
DTSTART:20230326T010000
END:DAYLIGHT
BEGIN:STANDARD
TZOFFSETFROM:+0100
TZOFFSETTO:+0000
TZNAME:GMT
DTSTART:20231029T010000
END:STANDARD
END:VTIMEZONE
BEGIN:VEVENT
DTSTART;TZID=Europe/London:20231114T171500
DTEND;TZID=Europe/London:20231114T210000
DTSTAMP:20260423T022653
CREATED:20231102T124711Z
LAST-MODIFIED:20231102T124842Z
UID:10005068-1699982100-1699995600@archerstreet.co.uk
SUMMARY:Christmas Lights Switch On
DESCRIPTION:Join Archer Street Soho in the most magical of Christmas traditions…  \n \n 
URL:https://archerstreet.co.uk/event/christmas-lights-switch-on/
LOCATION:Soho
CATEGORIES:Theme
ATTACH;FMTTYPE=image/png:https://archerstreet.co.uk/wp-content/uploads/2023/11/Screenshot-2023-11-02-at-12.41.59.png
END:VEVENT
BEGIN:VEVENT
DTSTART;TZID=Europe/London:20231125T140000
DTEND;TZID=Europe/London:20231125T170000
DTSTAMP:20260423T022653
CREATED:20231101T153122Z
LAST-MODIFIED:20231120T151131Z
UID:10005060-1700920800-1700931600@archerstreet.co.uk
SUMMARY:Christmas Bottomless Brunch at Archer Street SW11
DESCRIPTION:🎅🍕 Elevate your festive celebrations every Saturday from November 25th to December 16th at Archer Street SW11! 🍕🎅 \nJoin us from 2-5 pm bottomless starts at 2:30 pm for our fabulous Bottomless Brunch at just £55 per ticket. Indulge in unlimited pizza\, Prosecco\, mulled wine\, and beer for 90 minutes\, all while being serenaded by our talented singers performing your favourite Christmas tunes. \nIt’s a jolly good time waiting for you! \nBook your spot today via the ticket link below 🥂🎶🍾 \n* This is a 25’s and over-only event
URL:https://archerstreet.co.uk/event/christmas-bottomless-brunch-at-archer-street-sw11/2023-11-25/
LOCATION:SW11
CATEGORIES:Brunch,Theme
ATTACH;FMTTYPE=image/jpeg:https://archerstreet.co.uk/wp-content/uploads/2023/11/PCT-043.jpg
END:VEVENT
END:VCALENDAR