BEGIN:VCALENDAR
VERSION:2.0
PRODID:-//Archer Street - ECPv6.13.2.1//NONSGML v1.0//EN
CALSCALE:GREGORIAN
METHOD:PUBLISH
X-WR-CALNAME:Archer Street
X-ORIGINAL-URL:https://archerstreet.co.uk
X-WR-CALDESC:Events for Archer Street
REFRESH-INTERVAL;VALUE=DURATION:PT1H
X-Robots-Tag:noindex
X-PUBLISHED-TTL:PT1H
BEGIN:VTIMEZONE
TZID:Europe/London
BEGIN:DAYLIGHT
TZOFFSETFROM:+0000
TZOFFSETTO:+0100
TZNAME:BST
DTSTART:20230326T010000
END:DAYLIGHT
BEGIN:STANDARD
TZOFFSETFROM:+0100
TZOFFSETTO:+0000
TZNAME:GMT
DTSTART:20231029T010000
END:STANDARD
BEGIN:DAYLIGHT
TZOFFSETFROM:+0000
TZOFFSETTO:+0100
TZNAME:BST
DTSTART:20240331T010000
END:DAYLIGHT
BEGIN:STANDARD
TZOFFSETFROM:+0100
TZOFFSETTO:+0000
TZNAME:GMT
DTSTART:20241027T010000
END:STANDARD
END:VTIMEZONE
BEGIN:VEVENT
DTSTART;TZID=Europe/London:20231202T140000
DTEND;TZID=Europe/London:20231202T170000
DTSTAMP:20260423T121841
CREATED:20231101T153122Z
LAST-MODIFIED:20231120T151131Z
UID:10005061-1701525600-1701536400@archerstreet.co.uk
SUMMARY:Christmas Bottomless Brunch at Archer Street SW11
DESCRIPTION:🎅🍕 Elevate your festive celebrations every Saturday from November 25th to December 16th at Archer Street SW11! 🍕🎅 \nJoin us from 2-5 pm bottomless starts at 2:30 pm for our fabulous Bottomless Brunch at just £55 per ticket. Indulge in unlimited pizza\, Prosecco\, mulled wine\, and beer for 90 minutes\, all while being serenaded by our talented singers performing your favourite Christmas tunes. \nIt’s a jolly good time waiting for you! \nBook your spot today via the ticket link below 🥂🎶🍾 \n* This is a 25’s and over-only event
URL:https://archerstreet.co.uk/event/christmas-bottomless-brunch-at-archer-street-sw11/2023-12-02/
LOCATION:SW11
CATEGORIES:Brunch,Theme
ATTACH;FMTTYPE=image/jpeg:https://archerstreet.co.uk/wp-content/uploads/2023/11/PCT-043.jpg
END:VEVENT
BEGIN:VEVENT
DTSTART;TZID=Europe/London:20231204T180000
DTEND;TZID=Europe/London:20231204T233000
DTSTAMP:20260423T121841
CREATED:20231120T143035Z
LAST-MODIFIED:20231129T230831Z
UID:10005267-1701712800-1701732600@archerstreet.co.uk
SUMMARY:Christmas Carols at Archer Street Soho
DESCRIPTION:On Monday\, December 4th\, Archer Street Soho invites you to a magical Christmas Carol evening that will fill your heart with joy. \nEmbrace the festive season by donning your cosiest Christmas jumpers and join us for an unforgettable night. \nOur exceptional professional singers will enchant you with beloved holiday tunes\, and you can join in the merriment by singing along to classic Christmas carols. \nAs a special treat\, we’ll be serving complimentary mulled wine and mince pies\, ensuring your evening is filled with warmth and cheer. \nThis is not a ticketed event\, so please contact the office today at sohobookings@archerstreet.co.uk \n 
URL:https://archerstreet.co.uk/event/christmas-carols-at-archer-street-soho/
LOCATION:Soho
CATEGORIES:Theme
ATTACH;FMTTYPE=image/png:https://archerstreet.co.uk/wp-content/uploads/2023/09/Screenshot-2023-09-20-at-11.44.47.png
END:VEVENT
BEGIN:VEVENT
DTSTART;TZID=Europe/London:20231206T180000
DTEND;TZID=Europe/London:20231206T233000
DTSTAMP:20260423T121841
CREATED:20231120T143826Z
LAST-MODIFIED:20231129T230824Z
UID:10005268-1701885600-1701905400@archerstreet.co.uk
SUMMARY:Christmas Carols at Archer Street SW11
DESCRIPTION:On Wednesday 6th December\, Archer Street SW11 invites you to a magical Christmas Carol evening that will fill your heart with joy. \nEmbrace the festive season by donning your cosiest Christmas jumpers and join us for an unforgettable night. \nOur exceptional professional singers will enchant you with beloved holiday tunes\, and you can join in the merriment by singing along to classic Christmas carols. \nAs a special treat\, we’ll be serving complimentary mulled wine and mince pies\, ensuring your evening is filled with warmth and cheer. \nThis is not a ticketed event\, so please contact the office today at sw11bookings@archerstreet.co.uk
URL:https://archerstreet.co.uk/event/christmas-carols-at-archer-street-sw11/
LOCATION:SW11
CATEGORIES:Theme
ATTACH;FMTTYPE=image/jpeg:https://archerstreet.co.uk/wp-content/uploads/2023/11/006.jpg
END:VEVENT
BEGIN:VEVENT
DTSTART;TZID=Europe/London:20231207T180000
DTEND;TZID=Europe/London:20231207T233000
DTSTAMP:20260423T121841
CREATED:20230920T105752Z
LAST-MODIFIED:20231129T230804Z
UID:10004998-1701972000-1701991800@archerstreet.co.uk
SUMMARY:Christmas Carols at Archer Street Notting Hill
DESCRIPTION:Get ready for double the festive fun at Archer Street Notting Hill! Join us on Thursday\, December 7th\, for an enchanting Christmas Carol evening that promises to bring holiday magic to every corner. \nDon your most festive Christmas jumpers and prepare to be serenaded by our talented professional singers as they perform your favourite seasonal tunes. Sing along to timeless Christmas carols and savour the season with complimentary mulled wine and mince pies. \nAnd if you’re still in the holiday spirit after your Christmas shopping\, join us again on Thursday\, December 14th\, for a post-shopping Christmas Carol evening at Archer Street Notting Hill. It’s the perfect way to unwind and continue the festive celebrations. Don’t miss out on these enchanting evenings filled with warmth\, music\, and holiday cheer. \nThis is a non-ticketed event\, so please get in contact with our team to be added to the guest list: nhbookings@archerstreet.co.uk
URL:https://archerstreet.co.uk/event/christmas-carols-at-archer-street-notting-hill/
CATEGORIES:Theme
ATTACH;FMTTYPE=image/png:https://archerstreet.co.uk/wp-content/uploads/2023/09/Screenshot-2023-09-20-at-11.56.13.png
END:VEVENT
BEGIN:VEVENT
DTSTART;TZID=Europe/London:20231209T140000
DTEND;TZID=Europe/London:20231209T170000
DTSTAMP:20260423T121841
CREATED:20231101T153122Z
LAST-MODIFIED:20231120T151131Z
UID:10005062-1702130400-1702141200@archerstreet.co.uk
SUMMARY:Christmas Bottomless Brunch at Archer Street SW11
DESCRIPTION:🎅🍕 Elevate your festive celebrations every Saturday from November 25th to December 16th at Archer Street SW11! 🍕🎅 \nJoin us from 2-5 pm bottomless starts at 2:30 pm for our fabulous Bottomless Brunch at just £55 per ticket. Indulge in unlimited pizza\, Prosecco\, mulled wine\, and beer for 90 minutes\, all while being serenaded by our talented singers performing your favourite Christmas tunes. \nIt’s a jolly good time waiting for you! \nBook your spot today via the ticket link below 🥂🎶🍾 \n* This is a 25’s and over-only event
URL:https://archerstreet.co.uk/event/christmas-bottomless-brunch-at-archer-street-sw11/2023-12-09/
LOCATION:SW11
CATEGORIES:Brunch,Theme
ATTACH;FMTTYPE=image/jpeg:https://archerstreet.co.uk/wp-content/uploads/2023/11/PCT-043.jpg
END:VEVENT
BEGIN:VEVENT
DTSTART;TZID=Europe/London:20231211T180000
DTEND;TZID=Europe/London:20231211T233000
DTSTAMP:20260423T121841
CREATED:20230920T105314Z
LAST-MODIFIED:20231130T130720Z
UID:10004997-1702317600-1702337400@archerstreet.co.uk
SUMMARY:Christmas Carols at Archer Street Soho- SOLD OUT!!
DESCRIPTION:THIS EVENT IS NOW SOLD OUT \nOn Monday\, December 11th\, Archer Street Soho invites you to a magical Christmas Carol evening that will fill your heart with joy. \nEmbrace the festive season by donning your cosiest Christmas jumpers and join us for an unforgettable night. \nOur exceptional professional singers will enchant you with beloved holiday tunes\, and you can join in the merriment by singing along to classic Christmas carols. \nAs a special treat\, we’ll be serving complimentary mulled wine and mince pies\, ensuring your evening is filled with warmth and cheer. \nThis is not a ticketed event\, so please contact the office today at sohobookings@archerstreet.co.uk
URL:https://archerstreet.co.uk/event/1540/
LOCATION:Soho
CATEGORIES:Theme
ATTACH;FMTTYPE=image/png:https://archerstreet.co.uk/wp-content/uploads/2023/09/Screenshot-2023-09-20-at-11.44.47.png
END:VEVENT
BEGIN:VEVENT
DTSTART;TZID=Europe/London:20231214T180000
DTEND;TZID=Europe/London:20231214T233000
DTSTAMP:20260423T121841
CREATED:20230920T105943Z
LAST-MODIFIED:20240902T123347Z
UID:10004999-1702576800-1702596600@archerstreet.co.uk
SUMMARY:Christmas Carols at Archer Street Notting Hill
DESCRIPTION:Get ready for double the festive fun at Archer Street Notting Hill! Join us on Thursday\, December 14th\, for an enchanting Christmas Carol evening that promises to bring holiday magic to every corner. \nDon your most festive Christmas jumpers and prepare to be serenaded by our talented professional singers as they perform your favourite seasonal tunes. Sing along to timeless Christmas carols and savour the season with complimentary mulled wine and mince pies. \nA perfect post-shopping\, festive evening! It’s the perfect way to unwind and continue the celebrations. Don’t miss out on this enchanting evening filled with warmth\, music\, and holiday cheer. \nThis is a non-ticketed event\, so please get in contact with our team to be added to the guest list: nhbookings@archerstreet.co.uk
URL:https://archerstreet.co.uk/event/christmas-carols-at-archer-street-notting-hill-2/
CATEGORIES:Theme
ATTACH;FMTTYPE=image/png:https://archerstreet.co.uk/wp-content/uploads/2023/09/Screenshot-2023-09-20-at-11.56.13.png
END:VEVENT
BEGIN:VEVENT
DTSTART;TZID=Europe/London:20231216T140000
DTEND;TZID=Europe/London:20231216T170000
DTSTAMP:20260423T121841
CREATED:20231101T153122Z
LAST-MODIFIED:20231120T151131Z
UID:10005063-1702735200-1702746000@archerstreet.co.uk
SUMMARY:Christmas Bottomless Brunch at Archer Street SW11
DESCRIPTION:🎅🍕 Elevate your festive celebrations every Saturday from November 25th to December 16th at Archer Street SW11! 🍕🎅 \nJoin us from 2-5 pm bottomless starts at 2:30 pm for our fabulous Bottomless Brunch at just £55 per ticket. Indulge in unlimited pizza\, Prosecco\, mulled wine\, and beer for 90 minutes\, all while being serenaded by our talented singers performing your favourite Christmas tunes. \nIt’s a jolly good time waiting for you! \nBook your spot today via the ticket link below 🥂🎶🍾 \n* This is a 25’s and over-only event
URL:https://archerstreet.co.uk/event/christmas-bottomless-brunch-at-archer-street-sw11/2023-12-16/
LOCATION:SW11
CATEGORIES:Brunch,Theme
ATTACH;FMTTYPE=image/jpeg:https://archerstreet.co.uk/wp-content/uploads/2023/11/PCT-043.jpg
END:VEVENT
BEGIN:VEVENT
DTSTART;TZID=Europe/London:20231231T190000
DTEND;TZID=Europe/London:20240101T030000
DTSTAMP:20260423T121841
CREATED:20231108T202807Z
LAST-MODIFIED:20231127T142530Z
UID:10005069-1704049200-1704078000@archerstreet.co.uk
SUMMARY:New Year's Eve at Archer Street Notting Hill
DESCRIPTION:Join us for a spectacular New Year’s Eve at Archer Street Notting Hill for our glamorous Black Tie Ball. \nFor just £55 per ticket\, immerse yourself in elegance with a complimentary glass of champagne and canapés\, followed by an all-singing\, all-dancing cabaret show featuring our incredible performers. Keep the celebration going in true Archer Street style with epic music from our resident DJ and captivating performances from our talented singers. \nTickets are priced at £55 per person\, and we encourage black tie attire for this sophisticated affair. \nDoors open at 7 PM\, and the curtain rises for the cabaret show at 7:30 PM. Enjoy delightful canapés between 7:30 PM and 8 PM\, along with a welcome glass of champagne upon arrival—all included in the ticket price of £55. \nSecure your spot for this unforgettable night at Archer Street Notting Hill and usher in the New Year in style! \nContact the office today to enquire!  \n020 7734 3342 \nFor Notting Hill: nhbookings@archerstreet.co.uk \n 
URL:https://archerstreet.co.uk/event/new-years-eve-watch-this-space/
CATEGORIES:Theme
ATTACH;FMTTYPE=image/jpeg:https://archerstreet.co.uk/wp-content/uploads/2023/11/X-8413.jpg
END:VEVENT
BEGIN:VEVENT
DTSTART;TZID=Europe/London:20231231T190000
DTEND;TZID=Europe/London:20240101T030000
DTSTAMP:20260423T121841
CREATED:20231123T150307Z
LAST-MODIFIED:20231205T213303Z
UID:10005269-1704049200-1704078000@archerstreet.co.uk
SUMMARY:New Year's Eve at Archer Street Soho
DESCRIPTION:Join us for a spectacular New Year’s Eve at Archer Street Soho for our glamorous Black Tie Ball. \nFor just £55 per ticket\, immerse yourself in elegance with a complimentary glass of champagne and canapés\, followed by an all-singing\, all-dancing cabaret show featuring our incredible performers. Keep the celebration going in true Archer Street style with epic music from our resident DJ and captivating performances from our talented singers. \nTickets are priced at £55 per person\, and we encourage black tie attire for this sophisticated affair. \nDoors open at 7 PM\, and the curtain rises for the cabaret show at 7:30 PM. Enjoy delightful canapés between 7:30 PM and 8 PM\, along with a welcome glass of champagne upon arrival—all included in the ticket price of £55. \nSecure your spot for this unforgettable night at Archer Street Soho and usher in the New Year in style! \nContact the office today to enquire!  \n020 7734 3342 \nFor Soho: sohobookings@archerstreet.co.uk \n 
URL:https://archerstreet.co.uk/event/new-years-eve-at-archer-street-soho/
LOCATION:Soho
CATEGORIES:Theme
ATTACH;FMTTYPE=image/jpeg:https://archerstreet.co.uk/wp-content/uploads/2023/11/IMG_5304-scaled.jpg
END:VEVENT
BEGIN:VEVENT
DTSTART;TZID=Europe/London:20231231T190000
DTEND;TZID=Europe/London:20240101T030000
DTSTAMP:20260423T121841
CREATED:20231123T150502Z
LAST-MODIFIED:20231205T213209Z
UID:10005270-1704049200-1704078000@archerstreet.co.uk
SUMMARY:New Year's Eve at Archer Street SW11
DESCRIPTION:Join us for a spectacular New Year’s Eve at Archer Street SW11 for our glamorous Black Tie Ball. \nFor just £55 per ticket\, immerse yourself in elegance with a complimentary glass of champagne and canapés\, with celebration until the early hours. Party in true Archer Street style with epic music from our resident DJ’s Rob and Aaron and captivating performances from our talented singers. \nTickets are priced at £55 per person\, and we encourage black tie attire for this sophisticated affair. \nDoors open at 7 PM. Enjoy delightful canapés between 7:30 PM and 8 PM\, along with a welcome glass of champagne upon arrival—all included in the ticket price of £55. \nSecure your spot for this unforgettable night at Archer Street SW11 and usher in the New Year in style! \nContact the office today to enquire!  \n020 7734 3342 \nFor SW11: sw11bookings@archerstreet.co.uk \n 
URL:https://archerstreet.co.uk/event/new-years-eve-at-archer-street-sw11/
LOCATION:SW11
CATEGORIES:Theme
ATTACH;FMTTYPE=image/png:https://archerstreet.co.uk/wp-content/uploads/2023/11/Screenshot-2023-11-27-at-14.27.02.png
END:VEVENT
END:VCALENDAR