BEGIN:VCALENDAR
VERSION:2.0
PRODID:-//Archer Street - ECPv6.13.2.1//NONSGML v1.0//EN
CALSCALE:GREGORIAN
METHOD:PUBLISH
X-WR-CALNAME:Archer Street
X-ORIGINAL-URL:https://archerstreet.co.uk
X-WR-CALDESC:Events for Archer Street
REFRESH-INTERVAL;VALUE=DURATION:PT1H
X-Robots-Tag:noindex
X-PUBLISHED-TTL:PT1H
BEGIN:VTIMEZONE
TZID:Europe/London
BEGIN:DAYLIGHT
TZOFFSETFROM:+0000
TZOFFSETTO:+0100
TZNAME:BST
DTSTART:20240331T010000
END:DAYLIGHT
BEGIN:STANDARD
TZOFFSETFROM:+0100
TZOFFSETTO:+0000
TZNAME:GMT
DTSTART:20241027T010000
END:STANDARD
END:VTIMEZONE
BEGIN:VEVENT
DTSTART;TZID=Europe/London:20240203T140000
DTEND;TZID=Europe/London:20240203T170000
DTSTAMP:20260423T192641
CREATED:20240119T170343Z
LAST-MODIFIED:20240520T093647Z
UID:10009430-1706968800-1706979600@archerstreet.co.uk
SUMMARY:Disney Brunch Soho
DESCRIPTION:Be the Belle of the Bottomless-Brunch-Ball with us at our Disney Bottomless Brunch here at Archer Street. \n Be taken to infinity and beyond with our fabulous West End cast\, singing your favourite Disney songs! \nBe Our Guest from 2-5pm\, and feast on a glass of Fizz and a delicious Pizza. \n  \nThe Bare Necessities: \nTicket cost: £25 per person  \nTickets include a glass of Prosecco and choice of pizza. \nTickets are essential for entry. \nThis ticket does not guarantee you will have your own table. \nTable allocation will be set on the day. \nNo table can be confirmed prior to the event. \nGuests will be asked to leave the venue once the event has finished. \nDrinks outside of the agreed package will need to be purchased separately. \nThis is a strictly over 25’s event.
URL:https://archerstreet.co.uk/event/disney-brunch-soho/2024-02-03/
LOCATION:Soho
CATEGORIES:Brunch
ATTACH;FMTTYPE=image/jpeg:https://archerstreet.co.uk/wp-content/uploads/2024/01/Screenshot-2024-05-20-at-10.30.32.jpeg
END:VEVENT
BEGIN:VEVENT
DTSTART;TZID=Europe/London:20240214T170000
DTEND;TZID=Europe/London:20240215T003000
DTSTAMP:20260423T192641
CREATED:20240206T155314Z
LAST-MODIFIED:20240206T160632Z
UID:10009433-1707930000-1707957000@archerstreet.co.uk
SUMMARY:Valentine's Social - SW11
DESCRIPTION:Join us on Wednesday 14th February for a Valentine’s evening to remember. \nDance the night away\, and celebrate love in style – all while enjoying our signature cocktails made in the name of love by our mixologist\, Cameron Attfield. \nCome with friends and loved ones\, and enjoy live entertainment from our performers\, DJ and live saxophone player. \nYou never know who you might meet.
URL:https://archerstreet.co.uk/event/valentines-day-sw11/
LOCATION:SW11
ATTACH;FMTTYPE=image/png:https://archerstreet.co.uk/wp-content/uploads/2024/02/1-4.png
END:VEVENT
BEGIN:VEVENT
DTSTART;TZID=Europe/London:20240214T170000
DTEND;TZID=Europe/London:20240215T003000
DTSTAMP:20260423T192641
CREATED:20240206T160022Z
LAST-MODIFIED:20240206T160706Z
UID:10009434-1707930000-1707957000@archerstreet.co.uk
SUMMARY:Valentine's Day - Notting Hill
DESCRIPTION:Join us in Notting Hill as we celebrate all things love. \nSip on a delightful cocktail created by our award-winning mixologist Cameron Attfield\, pop a bottle of fizz and share one of our delicious pizzas – all while being serenaded by our performers with history’s greatest love-inspired hits. \n 
URL:https://archerstreet.co.uk/event/valentines-day-notting-hill/
ATTACH;FMTTYPE=image/png:https://archerstreet.co.uk/wp-content/uploads/2024/02/2-2.png
END:VEVENT
BEGIN:VEVENT
DTSTART;TZID=Europe/London:20240214T170000
DTEND;TZID=Europe/London:20240215T003000
DTSTAMP:20260423T192641
CREATED:20240206T161136Z
LAST-MODIFIED:20240206T161136Z
UID:10009435-1707930000-1707957000@archerstreet.co.uk
SUMMARY:Valentine's Day - Soho
DESCRIPTION:Valentine’s done right\, at Archer Street Soho. \nJoin us in Soho for some exquisite love-inspired entertainment from our performers\, while enjoying our signature Valentine’s cocktails. \nThe perfect place to celebrate with your loved ones\, it’s sure to be a night to remember. \nCelebrate love with us\, at Archer Street.
URL:https://archerstreet.co.uk/event/valentines-day-soho/
LOCATION:Soho
ATTACH;FMTTYPE=image/png:https://archerstreet.co.uk/wp-content/uploads/2024/02/3.png
END:VEVENT
BEGIN:VEVENT
DTSTART;TZID=Europe/London:20240217T140000
DTEND;TZID=Europe/London:20240217T170000
DTSTAMP:20260423T192641
CREATED:20240205T151222Z
LAST-MODIFIED:20240212T101632Z
UID:10009431-1708178400-1708189200@archerstreet.co.uk
SUMMARY:All you need is Love - Disney Brunch
DESCRIPTION:An afternoon of Endless Love\, Pizza\, and Fizz! You will be serenaded with some of history’s greatest love ballads and Disney Hits. Expect Pop\, Rock\, Musical Theatre\, Soul\, Motown and everything in between. As well as all of your favourite tunes from the greatest Disney classics. The perfect afternoon to spend with your Valentine or Galentine. \nOn Saturday the 10th and 17th of February\, let us tell you exactly what love has to do with it\, while we celebrate all things love. \nThe love shack will be open from 2-5pm – with 90 mins of Bottomless Pizza and Fizz from 2.30-4pm \n                                                                                   \nThe Important Stuff \nTickets are essential for entry. \nThis ticket does not guarantee you will have your own table. \nTable allocation will be set on the day. \nNo table can be confirmed prior to the event. \nGuests will be asked to leave the venue once the event has finished. \nDrinks outside of the agreed package will need to be purchased separately.
URL:https://archerstreet.co.uk/event/all-you-need-is-love-galentines-brunch/
LOCATION:Soho
ATTACH;FMTTYPE=application/pdf:https://archerstreet.co.uk/wp-content/uploads/2024/02/Cabaret-Showstopper-770-x-400-px-1.pdf
END:VEVENT
BEGIN:VEVENT
DTSTART;TZID=Europe/London:20240224T130000
DTEND;TZID=Europe/London:20240224T160000
DTSTAMP:20260423T192641
CREATED:20240118T153721Z
LAST-MODIFIED:20240520T091914Z
UID:10009453-1708779600-1708790400@archerstreet.co.uk
SUMMARY:Disney Brunch Notting Hill
DESCRIPTION:Be the Belle of the Brunch-Ball with us at our Disney Brunch here at Archer Street. \n Be taken to infinity and beyond with our fabulous West End cast\, singing your favourite Disney songs! \nBe Our Guest from 1-4pm\, and feast on a delicious pizza and glass of Prosecco. \nThe Bare Necessities:  \nTicket cost: £25 per person  \nTickets include a glass of Prosecco and a choice of pizza. \nTickets are essential for entry. \nThis ticket does not guarantee you will have your own table. \nTable allocation will be set on the day. \nNo table can be confirmed prior to the event. \nGuests will be asked to leave the venue once the event has finished. \nDrinks outside of the agreed package will need to be purchased separately. \nThis is a strictly over 25’s event.
URL:https://archerstreet.co.uk/event/disney-brunch-notting-hill/2024-02-24/
CATEGORIES:Brunch
ATTACH;FMTTYPE=image/jpeg:https://archerstreet.co.uk/wp-content/uploads/2024/01/IMG_3800-2.jpg
END:VEVENT
BEGIN:VEVENT
DTSTART;TZID=Europe/London:20240224T140000
DTEND;TZID=Europe/London:20240224T170000
DTSTAMP:20260423T192641
CREATED:20240205T151557Z
LAST-MODIFIED:20240429T144013Z
UID:10009432-1708783200-1708794000@archerstreet.co.uk
SUMMARY:Cabaret Showstopper Brunch Soho
DESCRIPTION:You can’t stop the beat at this Brunch! If you love the Theatre as much as we do\, you’re sure to enjoy our Cabaret Showstopper Brunch at Archer Street Soho. \nJoin us from 2pm to 5pm and listen to our incredibly talented team perform the greatest hits from stage and screen\, all whilst enjoying Pizza\, Prosecco and Beer! \nLife really is a Cabaret old chum! \nTicket cost:  \n£25 – 3 hours of entertainment\, a glass of Prosecco and a choice of 1 Pizza. \nTickets are essential for entry. \nThis ticket does not guarantee you will have your own table. \nTable allocation will be set on the day. \nNo table can be confirmed prior to the event. \nGuests will be asked to leave the venue once the event has finished. \nDrinks outside of the agreed package will need to be purchased separately.
URL:https://archerstreet.co.uk/event/cabaret-showstopper-brunch/2024-02-24/
LOCATION:Soho
ATTACH;FMTTYPE=image/jpeg:https://archerstreet.co.uk/wp-content/uploads/2024/02/PHOTO-2024-04-24-17-20-20.jpg
END:VEVENT
END:VCALENDAR