BEGIN:VCALENDAR
VERSION:2.0
PRODID:-//Archer Street - ECPv6.13.2.1//NONSGML v1.0//EN
CALSCALE:GREGORIAN
METHOD:PUBLISH
X-WR-CALNAME:Archer Street
X-ORIGINAL-URL:https://archerstreet.co.uk
X-WR-CALDESC:Events for Archer Street
REFRESH-INTERVAL;VALUE=DURATION:PT1H
X-Robots-Tag:noindex
X-PUBLISHED-TTL:PT1H
BEGIN:VTIMEZONE
TZID:Europe/London
BEGIN:DAYLIGHT
TZOFFSETFROM:+0000
TZOFFSETTO:+0100
TZNAME:BST
DTSTART:20240331T010000
END:DAYLIGHT
BEGIN:STANDARD
TZOFFSETFROM:+0100
TZOFFSETTO:+0000
TZNAME:GMT
DTSTART:20241027T010000
END:STANDARD
END:VTIMEZONE
BEGIN:VEVENT
DTSTART;TZID=Europe/London:20240706T140000
DTEND;TZID=Europe/London:20240706T170000
DTSTAMP:20260422T014004
CREATED:20240529T125632Z
LAST-MODIFIED:20240711T134645Z
UID:10009601-1720274400-1720285200@archerstreet.co.uk
SUMMARY:Back to the 00's Bottomless Brunch SW11
DESCRIPTION:Recharge those iPods and dig out that flip phone\, because we are bringing back all of your favourite noughties hits in one jam-packed afternoon!\nGet Your Freak On with us as we take you back in time to one of the most iconic decades in music history – think Britney\, Rihanna\, Usher and many more!\nEnjoy live vocals from the Archer Street team whilst sipping on bottomless bubbly Prosecco and beer\, and not forgetting the bottomless pizza!\n  \nTicket types:  \n\n£55 –  3 hours of live entertainment with 60 minutes of bottomless Prosecco\, beer and pizza.\n£25 – 3 hours of entertainment\, 1 glass of Prosecco and your choice of 1 pizza.\n\nTerms and conditions: \n\nTickets are essential for entry.\nTable allocation will be set on the day.\nGuests will be asked to depart the venue one the event has finished.\nDrinks outside of the package will need to be purchased separately.
URL:https://archerstreet.co.uk/event/back-to-the-00s-brunch-sw11/
LOCATION:SW11
ATTACH;FMTTYPE=image/jpeg:https://archerstreet.co.uk/wp-content/uploads/2024/06/PCT-0044-optimised.jpg
END:VEVENT
BEGIN:VEVENT
DTSTART;TZID=Europe/London:20240706T140000
DTEND;TZID=Europe/London:20240706T170000
DTSTAMP:20260422T014004
CREATED:20240613T162745Z
LAST-MODIFIED:20240624T103146Z
UID:10009598-1720274400-1720285200@archerstreet.co.uk
SUMMARY:Back to the 70's & 80's Bottomless Brunch Soho
DESCRIPTION:70’s & 80’s Bottomless Brunch Extravaganza at Archer Street! Get ready to boogie down memory lane. \nOur 70’s & 80’s brunch is an afternoon you won’t want to miss! Whether you’re all about the disco or more into flower power\, let our performers transport you back in time! Enjoy 3 hours of non-stop 70’s & 80’s inspired entertainment from 2pm-5pm\, while enjoying bottomless Prosecco\, beer and pizza. \nTICKET OPTIONS: \n\nBottomless Ticket – £55:\n\n3 hours of show-stopping entertainment!\n60 minutes of bottomless pizza\, prosecco\, and beer!\nYes\, you read that right – endless pizza and drinks!\n\n\nClassic Ticket – £25\n\n3 hours of fantastic entertainment!\n1 glass of bubbly prosecco to kickstart the fun.\nYour choice of one mouth-watering pizza.\n\n\n\nImportant Details: \n\nTickets are essential for entry.\nNo stag or hen do’s\, please.\nDrinks outside of the package will need to be purchased separately.\nTable allocation will be set on the day\, and cannot be confirmed prior to the event.\nGuests will be asked to leave the venue once the event has finished.\n\nGather your gang\, put on your best retro outfit\, and get ready to brunch like never before! \nBook your tickets now and join us for a blast from the past!
URL:https://archerstreet.co.uk/event/back-to-the-70s-80s-brunch-soho-2/
LOCATION:Soho
ATTACH;FMTTYPE=image/jpeg:https://archerstreet.co.uk/wp-content/uploads/2024/05/PHOTO-2024-04-24-17-20-19.jpg
END:VEVENT
BEGIN:VEVENT
DTSTART;TZID=Europe/London:20240713T140000
DTEND;TZID=Europe/London:20240713T170000
DTSTAMP:20260422T014004
CREATED:20240613T164959Z
LAST-MODIFIED:20240711T133110Z
UID:10009600-1720879200-1720890000@archerstreet.co.uk
SUMMARY:Cabaret Showstopper Bottomless Brunch SW11
DESCRIPTION:The perfect bottomless brunch for all theatre lovers!  \nIf you love the theatre as much as we do\, you’re in for a treat at Archer Street SW11’s Cabaret Showstopper Brunch! \nJoin us from 2pm to 5pm and get ready to be dazzled by our incredibly talented team as they perform the greatest hits from stage and screen! All while you enjoy bottomless pizza\, bubbly prosecco\, and refreshing beer. \nExpect to hear the biggest tunes from Chicago\, Cabaret\, Greatest Showman\, Moulin Rouge\, and much more. \nLife really is a cabaret\, old chum! \nTicket Options: \n\nBottomless Ticket – £55:\n\n3 hours of show-stopping entertainment!\n60 minutes of bottomless pizza\, prosecco\, and beer!\nYes\, you read that right – endless pizza and drinks!\n\n\nClassic Ticket – £25\n\n3 hours of fantastic entertainment!\n1 glass of bubbly prosecco to kickstart the fun.\nYour choice of one mouth-watering pizza.\n\n\n\nImportant Details: \n\nTickets are essential for entry.\nTable allocation will be set on the day and cannot be confirmed prior to the event.\nGuests will be asked to leave the venue once the event has finished.\nAdditional drinks will be available to purchase on the day outside of the bottomless if you so wish.\nPlease note\, we don’t accept hen or stag dos.\n\nSo throw on your best outfit\, gather your friends\, and join us for an unforgettable afternoon of showtunes\, fun\, and fabulousness! \nBook your tickets now and don’t miss out on the ultimate cabaret brunch experience!
URL:https://archerstreet.co.uk/event/cabaret-showstopper-brunch-sw11-3/
LOCATION:SW11
ATTACH;FMTTYPE=image/jpeg:https://archerstreet.co.uk/wp-content/uploads/2024/06/x-22-optimised.jpg
END:VEVENT
BEGIN:VEVENT
DTSTART;TZID=Europe/London:20240713T140000
DTEND;TZID=Europe/London:20240713T170000
DTSTAMP:20260422T014004
CREATED:20240619T152012Z
LAST-MODIFIED:20240711T132128Z
UID:10009619-1720879200-1720890000@archerstreet.co.uk
SUMMARY:Back to the 90's Bottomless Brunch Notting Hill
DESCRIPTION:Join us in Archer Street Notting Hill as we travel back to the 90’s for an afternoon of non-stop hits! \nNo scrubs allowed at this brunch – our talented performers will take you on a trip down memory lane\, celebrating an era where Madonna and Mariah ruled the roost. From 2pm to 5pm\, enjoy bottomless bubbly and beer\, all whilst enjoying 3 hours of epic 90’s-inspired entertainment. \nTicket Options: \n\nBottomless Ticket – £55:\n\n3 hours of show-stopping entertainment!\n60 minutes of bottomless pizza\, prosecco\, and beer!\nYes\, you read that right – endless pizza and drinks!\n\n\nClassic Ticket – £25\n\n3 hours of fantastic entertainment!\n1 glass of bubbly prosecco to kickstart the fun.\nYour choice of one mouth-watering pizza.\n\n\n\nEssential Info: \n\nTickets are a must for entry.\nTables are allocated on the day – no reservations.\nTable assignments are set on the day and can’t be confirmed beforehand.\nGuests will need to leave the venue once the event wraps up.\nAdditional drinks can be purchased separately.\nWe unfortunately don’t accept hen/stag do’s.\n\nSo what you waiting for? Dust off those low-rise jeans\, gather your crew\, and get ready for an afternoon of unforgettable 90s vibes! \nSecure your tickets now for the biggest throwback party ever!
URL:https://archerstreet.co.uk/event/back-to-the-90s-brunch-notting-hill-2-3-2/
ATTACH;FMTTYPE=image/jpeg:https://archerstreet.co.uk/wp-content/uploads/2024/06/PCT-013-optimised.jpg
END:VEVENT
BEGIN:VEVENT
DTSTART;TZID=Europe/London:20240713T140000
DTEND;TZID=Europe/London:20240713T170000
DTSTAMP:20260422T014004
CREATED:20240626T132630Z
LAST-MODIFIED:20240711T132644Z
UID:10009630-1720879200-1720890000@archerstreet.co.uk
SUMMARY:Cabaret Showstopper Bottomless Brunch Soho
DESCRIPTION:The perfect bottomless brunch for all theatre lovers!  \nIf you love the theatre as much as we do\, you’re in for a treat at Archer Street Soho’s Cabaret Showstopper Brunch! \nJoin us from 2pm to 5pm and get ready to be dazzled by our incredibly talented team as they perform the greatest hits from stage and screen! All while you enjoy bottomless pizza\, bubbly prosecco\, and refreshing beer. \nExpect to hear the biggest tunes from Chicago\, Cabaret\, Greatest Showman\, Moulin Rouge\, and much more. \nLife really is a cabaret\, old chum! \nTicket Options: \n\nBottomless Ticket – £55:\n\n3 hours of show-stopping entertainment!\n60 minutes of bottomless pizza\, prosecco\, and beer!\nYes\, you read that right – endless pizza and drinks!\n\n\nClassic Ticket – £25\n\n3 hours of fantastic entertainment!\n1 glass of bubbly prosecco to kickstart the fun.\nYour choice of one mouth-watering pizza.\n\n\n\nImportant Details: \n\nTickets are essential for entry.\nTable allocation will be set on the day and cannot be confirmed prior to the event.\nGuests will be asked to leave the venue once the event has finished.\nAdditional drinks will be available to purchase on the day outside of the bottomless if you so wish.\nPlease note\, we don’t accept hen or stag dos.\n\nSo throw on your best outfit\, gather your friends\, and join us for an unforgettable afternoon of theatre tunes\, fun\, and fabulousness! \nBook your tickets now and don’t miss out on the ultimate cabaret brunch experience!
URL:https://archerstreet.co.uk/event/cabaret-showstopper-bottomless-brunch-soho-2/
LOCATION:Soho
ATTACH;FMTTYPE=image/jpeg:https://archerstreet.co.uk/wp-content/uploads/2024/06/LL_5956191102-optimised-min.jpg
END:VEVENT
BEGIN:VEVENT
DTSTART;TZID=Europe/London:20240713T140000
DTEND;TZID=Europe/London:20240713T170000
DTSTAMP:20260422T014004
CREATED:20240703T230440Z
LAST-MODIFIED:20240711T131859Z
UID:10009620-1720879200-1720890000@archerstreet.co.uk
SUMMARY:Back to the 90's Bottomless Brunch Notting Hill
DESCRIPTION:Join us in Archer Street Notting Hill as we travel back to the 90’s for an afternoon of non-stop hits! \nNo scrubs allowed at this brunch – our talented performers will take you on a trip down memory lane\, celebrating an era where Madonna and Mariah ruled the roost. From 2pm to 5pm\, enjoy bottomless bubbly and beer\, all whilst enjoying 3 hours of epic 90’s-inspired entertainment. \nTicket Options: \n\nBottomless Ticket – £55:\n\n3 hours of show-stopping entertainment!\n60 minutes of bottomless pizza\, prosecco\, and beer!\nYes\, you read that right – endless pizza and drinks!\n\n\nClassic Ticket – £25\n\n3 hours of fantastic entertainment!\n1 glass of bubbly prosecco to kickstart the fun.\nYour choice of one mouth-watering pizza.\n\n\n\nEssential Info: \n\nTickets are a must for entry.\nTables are allocated on the day – no reservations.\nTable assignments are set on the day and can’t be confirmed beforehand.\nGuests will need to leave the venue once the event wraps up.\nAdditional drinks can be purchased separately.\nWe unfortunately don’t accept hen/stag do’s.\n\nSo what you waiting for? Dust off those low-rise jeans\, gather your crew\, and get ready for an afternoon of unforgettable 90s vibes! \nSecure your tickets now for the biggest throwback party ever!
URL:https://archerstreet.co.uk/event/back-to-the-90s-brunch-notting-hill-2-3/
ATTACH;FMTTYPE=image/jpeg:https://archerstreet.co.uk/wp-content/uploads/2024/06/PCT-0044-optimised.jpg
END:VEVENT
BEGIN:VEVENT
DTSTART;TZID=Europe/London:20240720T140000
DTEND;TZID=Europe/London:20240720T170000
DTSTAMP:20260422T014004
CREATED:20240613T143206Z
LAST-MODIFIED:20240711T134857Z
UID:10009604-1721484000-1721494800@archerstreet.co.uk
SUMMARY:Back to the 90's Bottomless Brunch Soho
DESCRIPTION:Join us in Archer Street Soho as we travel back to the 90’s for an afternoon of non-stop hits! \nNo scrubs allowed at this brunch – our talented performers will take you on a trip down memory lane\, celebrating an era where Madonna and Mariah ruled the roost. From 2pm to 5pm\, enjoy bottomless bubbly and beer\, all whilst enjoying 3 hours of epic 90’s-inspired entertainment. \nTicket Options:  \n\nBottomless Ticket – £55:\n\n3 hours of show-stopping entertainment!\n60 minutes of bottomless pizza\, prosecco\, and beer!\nYes\, you read that right – endless pizza and drinks!\n\n\nClassic Ticket – £25\n\n3 hours of fantastic entertainment!\n1 glass of bubbly prosecco to kickstart the fun.\nYour choice of one mouth-watering pizza.\n\n\n\nEssential Info: \n\nTickets are a must for entry.\nTable assignments are set on the day and can’t be confirmed beforehand.\nGuests will need to leave the venue once the event wraps up.\nAdditional drinks can be purchased separately.\nWe run an over 25 policy.\nWe unfortunately don’t accept stag/hen parties.\n\nSo what you waiting for? Dust off those low-rise jeans\, gather your crew\, and get ready for an afternoon of unforgettable 90s vibes! \nSecure your tickets now for the biggest throwback party ever!
URL:https://archerstreet.co.uk/event/back-to-the-90s-brunch-soho-2/
LOCATION:Soho
ATTACH;FMTTYPE=image/jpeg:https://archerstreet.co.uk/wp-content/uploads/2024/06/PCT-008-optimised.jpg
END:VEVENT
BEGIN:VEVENT
DTSTART;TZID=Europe/London:20240720T140000
DTEND;TZID=Europe/London:20240720T170000
DTSTAMP:20260422T014004
CREATED:20240613T150043Z
LAST-MODIFIED:20240806T161604Z
UID:10009608-1721484000-1721494800@archerstreet.co.uk
SUMMARY:Back To 90's Bottomless Brunch SW11
DESCRIPTION:Join us in Archer Street SW11 as we travel back to the 90’s for an afternoon of non-stop throwback hits at this iconic Bottomless Brunch! \nNo Scrubs allowed at this brunch – let our talented performers take you on a trip down memory lane\, celebrating an era where Madonna and Mariah ruled the roost as they belt out 90’s throwback anthems. From 2pm to 5pm\, enjoy 90 minutes of bottomless bubbly and beer\, all whilst enjoying 3 hours of live performances from the Archer Street team\, with 90’s-inspired entertainment. \nExpect to hear Madonna\, Boyzone\, Usher\, and many more! \nTicket Options:  \n\nBottomless Ticket – £55:\n\n3 hours of show-stopping entertainment!\n90 minutes of bottomless pizza\, prosecco\, and beer!\n\n\nClassic Ticket – £25\n\n3 hours of fantastic entertainment!\n1 glass of bubbly prosecco to kickstart the fun.\nYour choice of one mouth-watering pizza.\n\n\n\nEssential Info: \n\nTickets are a must for entry.\nTable assignments are set on the day and can’t be confirmed beforehand.\nGuests will need to leave the venue once the event wraps up.\nWe run an over 25 policy.\nWe unfortunately don’t accept stag/hen parties.\n\nSo what you waiting for? Dust off those low-rise jeans\, gather your crew\, and get ready for an afternoon of unforgettable 90s vibes! \nSecure your tickets now for the biggest throwback party ever!
URL:https://archerstreet.co.uk/event/back-to-the-90s-brunch-soho-2-2/
LOCATION:SW11
ATTACH;FMTTYPE=image/jpeg:https://archerstreet.co.uk/wp-content/uploads/2024/06/PCT-0044-optimised.jpg
END:VEVENT
BEGIN:VEVENT
DTSTART;TZID=Europe/London:20240727T130000
DTEND;TZID=Europe/London:20240727T160000
DTSTAMP:20260422T014004
CREATED:20240613T165207Z
LAST-MODIFIED:20240731T122919Z
UID:10009570-1722085200-1722096000@archerstreet.co.uk
SUMMARY:Cabaret Showstopper Bottomless Brunch Notting Hill
DESCRIPTION:The perfect bottomless brunch for all theatre lovers!  \nIf you love the theatre as much as we do\, you’re in for a treat at Archer Street Notting Hill’s Cabaret Showstopper Brunch! \nJoin us from 2pm to 5pm and get ready to be dazzled by our incredibly talented team as they perform the greatest hits from stage and screen! All while you enjoy bottomless pizza\, bubbly prosecco\, and refreshing beer. \nExpect to hear the biggest tunes from Chicago\, Cabaret\, Greatest Showman\, Moulin Rouge\, and much more. \nLife really is a cabaret\, old chum! \nTicket Options: \n\nBottomless Ticket – £55:\n\n3 hours of show-stopping entertainment!\n90 minutes of bottomless pizza\, prosecco\, and beer!\n\n\nClassic Ticket – £25\n\n3 hours of fantastic entertainment!\n1 glass of bubbly prosecco to kickstart the fun.\nYour choice of one mouth-watering pizza.\n\n\n\nImportant Details: \n\nTickets are essential for entry.\nTable allocation will be set on the day and cannot be confirmed prior to the event.\nGuests will be asked to leave the venue once the event has finished.\nAdditional drinks will be available to purchase on the day outside of the bottomless if you so wish.\nPlease note\, we don’t accept hen or stag dos.\n\nSo throw on your best outfit\, gather your friends\, and join us for an unforgettable afternoon of showtunes\, fun\, and fabulousness! \nBook your tickets now and don’t miss out on the ultimate cabaret brunch experience!
URL:https://archerstreet.co.uk/event/cabaret-showstopper-brunch-notting-hill-2/
ATTACH;FMTTYPE=image/jpeg:https://archerstreet.co.uk/wp-content/uploads/2024/06/PCT-013-optimised.jpg
END:VEVENT
BEGIN:VEVENT
DTSTART;TZID=Europe/London:20240727T140000
DTEND;TZID=Europe/London:20240727T170000
DTSTAMP:20260422T014004
CREATED:20240329T152302Z
LAST-MODIFIED:20240711T143638Z
UID:10009631-1722088800-1722099600@archerstreet.co.uk
SUMMARY:Back to the 90's Brunch Soho
DESCRIPTION:Join us in Archer Street Soho as we travel back to the 90’s for an afternoon of non stop hits! \nThere will be no scrubs at this brunch\, our talented performers with transport you back in time where Madonna and Mariah ruled the roost. \nSip on a glass of fizz and snack on a delicious Pizza\, whilst enjoying 3 hours of fantastic 90’s inspired entertainment form 2pm-5pm. \nTicket cost:  \n£25 – Includes 3 hours of Entertainment\, 1 Glass of Prosecco & choice of 1 Pizza \nTickets are essential for entry.  \nThis ticket does not guarantee you will have your own table.  \nTable allocation will be set on the day.  \nNo table can be confirmed prior to the event. \nGuests will be asked to leave the venue once the event has finished.  \nDrinks outside of the agreed package will need to be purchased separately.  \nThis is a strictly over 25’s event. \nPlease note we do not accept Stag/Hen do’s.
URL:https://archerstreet.co.uk/event/back-to-the-90s-brunch-soho/2024-07-27/
LOCATION:Soho
ATTACH;FMTTYPE=image/jpeg:https://archerstreet.co.uk/wp-content/uploads/2024/06/PCT-008-optimised.jpg
END:VEVENT
BEGIN:VEVENT
DTSTART;TZID=Europe/London:20240727T140000
DTEND;TZID=Europe/London:20240727T170000
DTSTAMP:20260422T014004
CREATED:20240613T150330Z
LAST-MODIFIED:20240731T122909Z
UID:10009609-1722088800-1722099600@archerstreet.co.uk
SUMMARY:Cabaret Showstopper Bottomless Brunch Soho
DESCRIPTION:The perfect bottomless brunch for all theatre lovers!  \nIf you love the theatre as much as we do\, you’re in for a treat at Archer Street Soho’s Cabaret Showstopper Brunch! \nJoin us from 2pm to 5pm and get ready to be dazzled by our incredibly talented team as they perform the greatest hits from stage and screen! All while you enjoy bottomless pizza\, bubbly prosecco\, and refreshing beer. \nExpect to hear the biggest tunes from Chicago\, Cabaret\, Greatest Showman\, Moulin Rouge\, and much more. \nLife really is a cabaret\, old chum! \nTicket Options: \n\nBottomless Ticket – £55:\n\n3 hours of show-stopping entertainment!\n90 minutes of bottomless pizza\, prosecco\, and beer!\n\n\nClassic Ticket – £25\n\n3 hours of fantastic entertainment!\n1 glass of bubbly prosecco to kickstart the fun.\nYour choice of one mouth-watering pizza.\n\n\n\nImportant Details: \n\nTickets are essential for entry.\nTable allocation will be set on the day and cannot be confirmed prior to the event.\nGuests will be asked to leave the venue once the event has finished.\nAdditional drinks will be available to purchase on the day outside of the bottomless if you so wish.\nPlease note\, we don’t accept hen or stag dos.\n\nSo throw on your best outfit\, gather your friends\, and join us for an unforgettable afternoon of showtunes\, fun\, and fabulousness! \nBook your tickets now and don’t miss out on the ultimate cabaret brunch experience!
URL:https://archerstreet.co.uk/event/cabaret-showstopper-brunch-2-2-2/
LOCATION:Soho
ATTACH;FMTTYPE=image/jpeg:https://archerstreet.co.uk/wp-content/uploads/2024/06/LL_5956191102-optimised-min.jpg
END:VEVENT
END:VCALENDAR