BEGIN:VCALENDAR
VERSION:2.0
PRODID:-//Archer Street - ECPv6.13.2.1//NONSGML v1.0//EN
CALSCALE:GREGORIAN
METHOD:PUBLISH
X-WR-CALNAME:Archer Street
X-ORIGINAL-URL:https://archerstreet.co.uk
X-WR-CALDESC:Events for Archer Street
REFRESH-INTERVAL;VALUE=DURATION:PT1H
X-Robots-Tag:noindex
X-PUBLISHED-TTL:PT1H
BEGIN:VTIMEZONE
TZID:Europe/London
BEGIN:DAYLIGHT
TZOFFSETFROM:+0000
TZOFFSETTO:+0100
TZNAME:BST
DTSTART:20240331T010000
END:DAYLIGHT
BEGIN:STANDARD
TZOFFSETFROM:+0100
TZOFFSETTO:+0000
TZNAME:GMT
DTSTART:20241027T010000
END:STANDARD
END:VTIMEZONE
BEGIN:VEVENT
DTSTART;TZID=Europe/London:20240803T140000
DTEND;TZID=Europe/London:20240803T170000
DTSTAMP:20260422T013959
CREATED:20240613T151634Z
LAST-MODIFIED:20240802T113355Z
UID:10009610-1722693600-1722704400@archerstreet.co.uk
SUMMARY:West End Bottomless Brunch SW11
DESCRIPTION:The perfect bottomless brunch for all theatre lovers!  \nIf you love the theatre as much as we do\, you’re in for a treat at Archer Street SW11’s West End Bottomless Brunch! \nJoin us from 2pm to 5pm and get ready to be dazzled by our incredibly talented team as they perform the greatest hits from stage and screen! All while you enjoy bottomless pizza\, bubbly prosecco\, and refreshing beer. \nExpect to hear the biggest tunes from Chicago\, Cabaret\, Greatest Showman\, Moulin Rouge\, and much more. \nTicket Options: \n\nBottomless Ticket – £55:\n\n3 hours of show-stopping entertainment!\n90 minutes of bottomless pizza\, prosecco\, and beer!\n\n\nClassic Ticket – £25\n\n3 hours of fantastic entertainment!\n1 glass of bubbly prosecco to kickstart the fun.\nYour choice of one mouth-watering pizza.\n\n\n\nImportant Details: \n\nTickets are essential for entry.\nTable allocation will be set on the day and cannot be confirmed prior to the event.\nGuests will be asked to leave the venue once the event has finished.\nAdditional drinks will be available to purchase on the day outside of the bottomless if you so wish.\nPlease note\, we don’t accept hen or stag dos.\n\nSo throw on your best outfit\, gather your friends\, and join us for an unforgettable afternoon of showtunes\, fun\, and fabulousness! \nBook your tickets now and don’t miss out on the ultimate cabaret brunch experience!
URL:https://archerstreet.co.uk/event/cabaret-showstopper-brunch-sw11-2/
ATTACH;FMTTYPE=image/jpeg:https://archerstreet.co.uk/wp-content/uploads/2024/06/AS_West-End-Brunch_Banner.jpg
END:VEVENT
BEGIN:VEVENT
DTSTART;TZID=Europe/London:20240803T140000
DTEND;TZID=Europe/London:20240803T170000
DTSTAMP:20260422T013959
CREATED:20240624T122844Z
LAST-MODIFIED:20240806T161526Z
UID:10009624-1722693600-1722704400@archerstreet.co.uk
SUMMARY:Back to the 90's Bottomless Brunch Soho
DESCRIPTION:Join us in Archer Street Soho as we travel back to the 90’s for an afternoon of non-stop throwback hits at this iconic Bottomless Brunch! \nNo Scrubs allowed at this brunch – let our talented performers take you on a trip down memory lane\, celebrating an era where Madonna and Mariah ruled the roost as they belt out 90’s throwback anthems. From 2pm to 5pm\, enjoy 90 minutes of bottomless bubbly and beer\, all whilst enjoying 3 hours of live performances from the Archer Street team\, with 90’s-inspired entertainment. \nExpect to hear Madonna\, Boyzone\, Usher\, and many more! \nTicket Options:  \n\nBottomless Ticket – £55:\n\n3 hours of show-stopping entertainment!\n90 minutes of bottomless pizza\, prosecco\, and beer!\n\n\nClassic Ticket – £25\n\n3 hours of fantastic entertainment!\n1 glass of bubbly prosecco to kickstart the fun.\nYour choice of one mouth-watering pizza.\n\n\n\nEssential Info: \n\nTickets are a must for entry.\nTable assignments are set on the day and can’t be confirmed beforehand.\nGuests will need to leave the venue once the event wraps up.\nWe run an over 25 policy.\nWe unfortunately don’t accept stag/hen parties.\n\nSo what you waiting for? Dust off those low-rise jeans\, gather your crew\, and get ready for an afternoon of unforgettable 90s vibes! \nSecure your tickets now for the biggest throwback party ever!
URL:https://archerstreet.co.uk/event/back-to-the-90s-bottomless-brunch-soho-3-2/
LOCATION:Soho
ATTACH;FMTTYPE=image/jpeg:https://archerstreet.co.uk/wp-content/uploads/2024/06/AS_Back-to-90s_Banner.jpg
END:VEVENT
BEGIN:VEVENT
DTSTART;TZID=Europe/London:20240810T140000
DTEND;TZID=Europe/London:20240810T170000
DTSTAMP:20260422T013959
CREATED:20240613T143333Z
LAST-MODIFIED:20240802T113217Z
UID:10009606-1723298400-1723309200@archerstreet.co.uk
SUMMARY:West End Bottomless Brunch Soho
DESCRIPTION:The perfect bottomless brunch for all theatre lovers!  \nIf you love the theatre as much as we do\, you’re in for a treat at Archer Street Soho’s West End Bottomless Brunch! \nJoin us from 2pm to 5pm and get ready to be dazzled by our incredibly talented team as they perform the greatest hits from stage and screen! All while you enjoy bottomless pizza\, bubbly prosecco\, and refreshing beer. \nExpect to hear the biggest tunes from Chicago\, Cabaret\, Greatest Showman\, Moulin Rouge\, and much more. \nTicket Options: \n\nBottomless Ticket – £55:\n\n3 hours of show-stopping entertainment!\n90 minutes of bottomless pizza\, prosecco\, and beer!\n\n\nClassic Ticket – £25\n\n3 hours of fantastic entertainment!\n1 glass of bubbly prosecco to kickstart the fun.\nYour choice of one mouth-watering pizza.\n\n\n\nImportant Details: \n\nTickets are essential for entry.\nTable allocation will be set on the day and cannot be confirmed prior to the event.\nGuests will be asked to leave the venue once the event has finished.\nDrinks outside of the package will need to be purchased separately.\nPlease note\, we don’t accept hen or stag dos.\n\nSo throw on your best outfit\, gather your friends\, and join us for an unforgettable afternoon of showtunes\, fun\, and fabulousness! \nBook your tickets now and don’t miss out on the ultimate cabaret brunch experience!
URL:https://archerstreet.co.uk/event/west-end-brunch-2-2/
LOCATION:Soho
ATTACH;FMTTYPE=image/jpeg:https://archerstreet.co.uk/wp-content/uploads/2024/06/AS_West-End-Brunch_Banner.jpg
END:VEVENT
BEGIN:VEVENT
DTSTART;TZID=Europe/London:20240810T140000
DTEND;TZID=Europe/London:20240810T170000
DTSTAMP:20260422T013959
CREATED:20240619T151702Z
LAST-MODIFIED:20240806T161500Z
UID:10009617-1723298400-1723309200@archerstreet.co.uk
SUMMARY:Back To The 90's Bottomless Brunch Notting Hill
DESCRIPTION:Join us in Archer Street Notting Hill as we travel back to the 90’s for an afternoon of non-stop throwback hits at this iconic Bottomless Brunch! \nNo Scrubs allowed at this brunch – let our talented performers take you on a trip down memory lane\, celebrating an era where Madonna and Mariah ruled the roost as they belt out 90’s throwback anthems. From 2pm to 5pm\, enjoy 90 minutes of bottomless bubbly and beer\, all whilst enjoying 3 hours of live performances from the Archer Street team\, with 90’s-inspired entertainment. \nExpect to hear Madonna\, Boyzone\, Usher\, and many more! \nTicket Options:  \n\nBottomless Ticket – £55:\n\n3 hours of show-stopping entertainment!\n90 minutes of bottomless pizza\, prosecco\, and beer!\n\n\nStandard Ticket – £25\n\n3 hours of fantastic entertainment!\n1 glass of bubbly prosecco to kickstart the fun.\nYour choice of one mouth-watering pizza.\n\n\n\nEssential Info: \n\nTickets are a must for entry.\nTable assignments are set on the day and can’t be confirmed beforehand.\nGuests will need to leave the venue once the event wraps up.\nWe run an over 25 policy.\nWe unfortunately don’t accept stag/hen parties.\n\nSo what you waiting for? Dust off those low-rise jeans\, gather your crew\, and get ready for an afternoon of unforgettable 90s vibes! \nSecure your tickets now for the biggest throwback party ever!
URL:https://archerstreet.co.uk/event/back-to-the-90s-brunch-notting-hill-2-2/
ATTACH;FMTTYPE=image/jpeg:https://archerstreet.co.uk/wp-content/uploads/2024/06/AS_Back-to-90s_Banner.jpg
END:VEVENT
BEGIN:VEVENT
DTSTART;TZID=Europe/London:20240817T140000
DTEND;TZID=Europe/London:20240817T170000
DTSTAMP:20260422T013959
CREATED:20240624T102421Z
LAST-MODIFIED:20240806T174759Z
UID:10009623-1723903200-1723914000@archerstreet.co.uk
SUMMARY:Back to the 00's Bottomless Brunch SW11
DESCRIPTION:Re-charge those iPods and dig out those low-rise jeans\, because we’re bringing back all your favourite 00’s hits in one jam-packed afternoon of iconic throwbacks! \nGet Your Freak On as we transport you back to one of the most iconic decades in music history – expect to hear live vocal performances to the likes of Britney\, Beyonce\, Usher and many more! Think up on the tables at this all-singing\, all-dancing afternoon of non-stop throwbacks. \nSo What You Waiting For? Party like it’s 2003 at London’s most iconic brunch\, with 3 hours of live hits from professional vocalists\, plus 90 minutes of bottomless Prosecco\, pizza & beer! \nThe brunch starts at 2pm and runs until 5pm. \n  \nTicket Options: \n£55 Bottomless Ticket – 3 hours of live entertainment\, plus 90 minutes of bottomless Prosecco\, pizza & beer. \n£25 Standard Ticket – 3 hours of live entertainment\, plus a glass of Prosecco on arrival and your choice of pizza. \n  \nT&C’s: \nTickets are essential for entry. \nDue to health and safety\, guests will be asked to depart after the event has finished. \nPlease note\, we don’t accept hen and stag dos.
URL:https://archerstreet.co.uk/event/back-to-the-00s-brunch-sw11-2/
LOCATION:SW11
ATTACH;FMTTYPE=image/jpeg:https://archerstreet.co.uk/wp-content/uploads/2024/06/AS_Back-to-00s_Banner.jpg
END:VEVENT
BEGIN:VEVENT
DTSTART;TZID=Europe/London:20240817T140000
DTEND;TZID=Europe/London:20240817T170000
DTSTAMP:20260422T013959
CREATED:20240624T123017Z
LAST-MODIFIED:20240806T175011Z
UID:10009625-1723903200-1723914000@archerstreet.co.uk
SUMMARY:Back To The 90's Bottomless Brunch Soho
DESCRIPTION:Join us in Archer Street Soho as we travel back to the 90’s for an afternoon of non-stop throwback hits at this iconic Bottomless Brunch! \nNo Scrubs allowed at this brunch – let our talented performers take you on a trip down memory lane\, celebrating an era where Madonna and Mariah ruled the roost as they belt out 90’s throwback anthems. From 2pm to 5pm\, enjoy 90 minutes of bottomless bubbly and beer\, all whilst enjoying 3 hours of live performances from the Archer Street team\, with 90’s-inspired entertainment. \nExpect to hear Madonna\, Boyzone\, Usher\, and many more! \nTicket Options:  \n\nBottomless Ticket – £55:\n\n3 hours of show-stopping entertainment!\n90 minutes of bottomless pizza\, prosecco\, and beer!\n\n\nClassic Ticket – £25\n\n3 hours of fantastic entertainment!\n1 glass of bubbly prosecco to kickstart the fun.\nYour choice of one mouth-watering pizza.\n\n\n\nEssential Info: \n\nTickets are a must for entry.\nTable assignments are set on the day and can’t be confirmed beforehand.\nGuests will need to leave the venue once the event wraps up.\nWe run an over 25 policy.\nWe unfortunately don’t accept stag/hen parties.\n\nSo what you waiting for? Dust off those low-rise jeans\, gather your crew\, and get ready for an afternoon of unforgettable 90s vibes! \nSecure your tickets now for the biggest throwback party ever!
URL:https://archerstreet.co.uk/event/back-to-the-90s-bottomless-brunch-soho-3-3/
LOCATION:Soho
ATTACH;FMTTYPE=image/jpeg:https://archerstreet.co.uk/wp-content/uploads/2024/06/AS_Back-to-90s_Banner.jpg
END:VEVENT
BEGIN:VEVENT
DTSTART;TZID=Europe/London:20240824T130000
DTEND;TZID=Europe/London:20240824T160000
DTSTAMP:20260422T013959
CREATED:20240619T152437Z
LAST-MODIFIED:20240901T183554Z
UID:10009621-1724504400-1724515200@archerstreet.co.uk
SUMMARY:Cabaret Showstopper Bottomless Brunch Notting Hill
DESCRIPTION:The perfect bottomless brunch for all theatre lovers!  \nIf you love the theatre as much as we do\, you’re in for a treat at Archer Street Notting Hill’s Cabaret Showstopper Bottomless Brunch! \nJoin us from 2pm to 5pm and get ready to be dazzled by our incredibly talented team as they perform the greatest hits from stage and screen! All while you enjoy bottomless pizza\, bubbly prosecco\, and refreshing beer. \nExpect to hear the biggest tunes from Chicago\, Cabaret\, Greatest Showman\, Moulin Rouge\, and much more. \nTicket Options: \n\nBottomless Ticket – £55:\n\n3 hours of show-stopping entertainment!\n90 minutes of bottomless pizza\, prosecco\, and beer!\n\n\nStandard Ticket – £25\n\n3 hours of fantastic entertainment!\n1 glass of bubbly prosecco to kickstart the fun.\nYour choice of one mouth-watering pizza.\n\n\n\nImportant Details: \n\nTickets are essential for entry.\nTable allocation will be set on the day and cannot be confirmed prior to the event.\nGuests will be asked to leave the venue once the event has finished.\nAdditional drinks will be available to purchase on the day outside of the bottomless if you so wish.\nPlease note\, we don’t accept hen or stag dos.\n\nSo throw on your best outfit\, gather your friends\, and join us for an unforgettable afternoon of showtunes\, fun\, and fabulousness! \nBook your tickets now and don’t miss out on the ultimate cabaret brunch experience!
URL:https://archerstreet.co.uk/event/cabaret-showstopper-bottomless-brunch-notting-hill/
CATEGORIES:Brunch
ATTACH;FMTTYPE=image/jpeg:https://archerstreet.co.uk/wp-content/uploads/2024/08/AS_West-End-Brunch_Banner-1.jpg
END:VEVENT
BEGIN:VEVENT
DTSTART;TZID=Europe/London:20240824T140000
DTEND;TZID=Europe/London:20240824T170000
DTSTAMP:20260422T013959
CREATED:20240613T142937Z
LAST-MODIFIED:20240806T175053Z
UID:10009602-1724508000-1724518800@archerstreet.co.uk
SUMMARY:West End Bottomless Brunch Soho
DESCRIPTION:The perfect bottomless brunch for all theatre lovers!  \nIf you love the theatre as much as we do\, you’re in for a treat at Archer Street Soho’s West End Brunch! \nJoin us from 2pm to 5pm and get ready to be dazzled by our incredibly talented team as they perform the greatest hits from stage and screen! All while you enjoy bottomless pizza\, bubbly prosecco\, and refreshing beer. \nExpect to hear the biggest tunes from Chicago\, Cabaret\, Greatest Showman\, Moulin Rouge\, and much more. \nTicket Options: \n\nBottomless Ticket – £55:\n\n3 hours of show-stopping entertainment!\n90 minutes of bottomless pizza\, prosecco\, and beer!\nYes\, you read that right – endless pizza and drinks!\n\n\nClassic Ticket – £25\n\n3 hours of fantastic entertainment!\n1 glass of bubbly prosecco to kickstart the fun.\nYour choice of one mouth-watering pizza.\n\n\n\nImportant Details: \n\nTickets are essential for entry.\nTable allocation will be set on the day and cannot be confirmed prior to the event.\nGuests will be asked to leave the venue once the event has finished.\nAdditional drinks will be available to purchase on the day outside of the bottomless if you so wish.\nPlease note\, we don’t accept hen or stag dos.\n\nSo throw on your best outfit\, gather your friends\, and join us for an unforgettable afternoon of theatre tunes\, fun\, and fabulousness! \nBook your tickets now and don’t miss out on the ultimate cabaret brunch experience!
URL:https://archerstreet.co.uk/event/west-end-brunch-2/
LOCATION:Soho
ATTACH;FMTTYPE=image/jpeg:https://archerstreet.co.uk/wp-content/uploads/2024/06/AS_West-End-Brunch_Banner.jpg
END:VEVENT
BEGIN:VEVENT
DTSTART;TZID=Europe/London:20240825T140000
DTEND;TZID=Europe/London:20240826T020000
DTSTAMP:20260422T013959
CREATED:20240815T090431Z
LAST-MODIFIED:20240816T170533Z
UID:10009907-1724594400-1724637600@archerstreet.co.uk
SUMMARY:Club Tropicana: Bank Holiday Party SW11
DESCRIPTION:Join us this Bank Holiday Sunday at Archer Street SW11 for the ultimate summer send-off party inspired by Pikes in Ibiza! 🍍🌺🦩🥥🍉🍹 \nFrom 2pm till 2am we’ll be bringing the Ibiza magic to London with all-day DJ sets playing the hottest Balearic beats\, tropical props\, signature cocktails\, live vocal tribute acts and performances from the Archer Street – and much more! \n\n\n\n\n\nWe’re transporting our MYKI Beach Bar into one of the world’s most iconic party spots – Pikes in Ibiza. Our top house DJ will be spinning Ibiza anthems as you dance the night away\, plus keep an eye out for live vocal performances from George Michael and Freddie Mercury! \n\n\n\n\n\nTickets are £10 and include a welcome Club Tropicana cocktail and entry to the event. \nGuests can arrive any time between 2pm and 9pm. Please note – if you arrive after 9pm you won’t receive your welcome cocktail. DJ starts at 6pm. \nIt’s the perfect summer send-off – don’t miss out on the ultimate party this Bank Holiday Sunday!
URL:https://archerstreet.co.uk/event/bank-holiday-sw11/
LOCATION:SW11
ATTACH;FMTTYPE=image/jpeg:https://archerstreet.co.uk/wp-content/uploads/2024/08/AS_Club-Tropicana_Social2.jpg
END:VEVENT
BEGIN:VEVENT
DTSTART;TZID=Europe/London:20240825T160000
DTEND;TZID=Europe/London:20240826T010000
DTSTAMP:20260422T013959
CREATED:20240816T141637Z
LAST-MODIFIED:20240816T165941Z
UID:10009918-1724601600-1724634000@archerstreet.co.uk
SUMMARY:Club Tropicana: Bank Holiday Party Soho
DESCRIPTION:Join us this Bank Holiday Sunday at Archer Street Soho for the ultimate summer send-off party inspired by Pikes in Ibiza! 🍍🌺🦩🥥🍉🍹 \nFrom 4pm till 1am we’ll be bringing the Ibiza magic to London with all-day DJ sets playing the hottest Balearic beats\, tropical props\, signature cocktails\, live vocal tribute acts and performances from the Archer Street – and much more! \n\n\n\n\n\nWe’re transporting our MYKI Beach Bar to one of the world’s most iconic party spots – Pikes in Ibiza. Our top house DJ will be spinning Ibiza anthems as you dance the night away\, plus keep an eye out for live vocal performances from George Michael and Freddie Mercury! \n\n\n\n\n\nTickets are £10 and include a welcome Club Tropicana cocktail and entry to the event. \nGuests can arrive any time between 4pm and 9pm. Please note – if you arrive after 9pm you won’t receive your welcome cocktail. DJ starts at 6pm. \nIt’s the perfect summer send-off – don’t miss out on the ultimate party this Bank Holiday Sunday!
URL:https://archerstreet.co.uk/event/club-tropicana-bank-holiday-party-soho/
LOCATION:Soho
ATTACH;FMTTYPE=image/jpeg:https://archerstreet.co.uk/wp-content/uploads/2024/08/AS_Club-Tropicana_Social2.jpg
END:VEVENT
BEGIN:VEVENT
DTSTART;TZID=Europe/London:20240831T140000
DTEND;TZID=Europe/London:20240831T170000
DTSTAMP:20260422T013959
CREATED:20240619T151207Z
LAST-MODIFIED:20240806T175100Z
UID:10009612-1725112800-1725123600@archerstreet.co.uk
SUMMARY:Back To 90's Bottomless Brunch Soho
DESCRIPTION:Join us in Archer Street Soho as we travel back to the 90’s for an afternoon of non-stop throwback hits at this iconic Bottomless Brunch! \nNo Scrubs allowed at this brunch – let our talented performers take you on a trip down memory lane\, celebrating an era where Madonna and Mariah ruled the roost as they belt out 90’s throwback anthems. From 2pm to 5pm\, enjoy 90 minutes of bottomless bubbly and beer\, all whilst enjoying 3 hours of live performances from the Archer Street team\, with 90’s-inspired entertainment. \nExpect to hear Madonna\, Boyzone\, Usher\, and many more! \nTicket Options:  \n\nBottomless Ticket – £55:\n\n3 hours of show-stopping entertainment!\n90 minutes of bottomless pizza\, prosecco\, and beer!\n\n\nClassic Ticket – £25\n\n3 hours of fantastic entertainment!\n1 glass of bubbly prosecco to kickstart the fun.\nYour choice of one mouth-watering pizza.\n\n\n\nEssential Info: \n\nTickets are a must for entry.\nTable assignments are set on the day and can’t be confirmed beforehand.\nGuests will need to leave the venue once the event wraps up.\nWe run an over 25 policy.\nWe unfortunately don’t accept stag/hen parties.\n\nSo what you waiting for? Dust off those low-rise jeans\, gather your crew\, and get ready for an afternoon of unforgettable 90s vibes! \nSecure your tickets now for the biggest throwback party ever!
URL:https://archerstreet.co.uk/event/back-to-the-90s-bottomless-brunch-soho/
LOCATION:Soho
ATTACH;FMTTYPE=image/jpeg:https://archerstreet.co.uk/wp-content/uploads/2024/06/AS_Back-to-90s_Banner.jpg
END:VEVENT
BEGIN:VEVENT
DTSTART;TZID=Europe/London:20240831T140000
DTEND;TZID=Europe/London:20240831T170000
DTSTAMP:20260422T013959
CREATED:20240624T124431Z
LAST-MODIFIED:20240806T175108Z
UID:10009626-1725112800-1725123600@archerstreet.co.uk
SUMMARY:Back To 90's Bottomless Brunch SW11
DESCRIPTION:Join us in Archer Street SW11 as we travel back to the 90’s for an afternoon of non-stop throwback hits at this iconic Bottomless Brunch! \nNo Scrubs allowed at this brunch – let our talented performers take you on a trip down memory lane\, celebrating an era where Madonna and Mariah ruled the roost as they belt out 90’s throwback anthems. From 2pm to 5pm\, enjoy 90 minutes of bottomless bubbly and beer\, all whilst enjoying 3 hours of live performances from the Archer Street team\, with 90’s-inspired entertainment. \nExpect to hear Madonna\, Boyzone\, Usher\, and many more! \nTicket Options:  \n\nBottomless Ticket – £55:\n\n3 hours of show-stopping entertainment!\n90 minutes of bottomless pizza\, prosecco\, and beer!\n\n\nStandard Ticket – £25\n\n3 hours of fantastic entertainment!\n1 glass of bubbly prosecco to kickstart the fun.\nYour choice of one mouth-watering pizza.\n\n\n\nEssential Info: \n\nTickets are a must for entry.\nTable assignments are set on the day and can’t be confirmed beforehand.\nGuests will need to leave the venue once the event wraps up.\nWe run an over 25 policy.\nWe unfortunately don’t accept stag/hen parties.\n\nSo what you waiting for? Dust off those low-rise jeans\, gather your crew\, and get ready for an afternoon of unforgettable 90s vibes! \nSecure your tickets now for the biggest throwback party ever!
URL:https://archerstreet.co.uk/event/back-to-the-90s-brunch-soho-2-2-2/
LOCATION:SW11
ATTACH;FMTTYPE=image/jpeg:https://archerstreet.co.uk/wp-content/uploads/2024/06/AS_Back-to-90s_Banner.jpg
END:VEVENT
END:VCALENDAR