BEGIN:VCALENDAR
VERSION:2.0
PRODID:-//Archer Street - ECPv6.13.2.1//NONSGML v1.0//EN
CALSCALE:GREGORIAN
METHOD:PUBLISH
X-WR-CALNAME:Archer Street
X-ORIGINAL-URL:https://archerstreet.co.uk
X-WR-CALDESC:Events for Archer Street
REFRESH-INTERVAL;VALUE=DURATION:PT1H
X-Robots-Tag:noindex
X-PUBLISHED-TTL:PT1H
BEGIN:VTIMEZONE
TZID:Europe/London
BEGIN:DAYLIGHT
TZOFFSETFROM:+0000
TZOFFSETTO:+0100
TZNAME:BST
DTSTART:20240331T010000
END:DAYLIGHT
BEGIN:STANDARD
TZOFFSETFROM:+0100
TZOFFSETTO:+0000
TZNAME:GMT
DTSTART:20241027T010000
END:STANDARD
END:VTIMEZONE
BEGIN:VEVENT
DTSTART;TZID=Europe/London:20240907T140000
DTEND;TZID=Europe/London:20240907T170000
DTSTAMP:20260422T102907
CREATED:20240619T151235Z
LAST-MODIFIED:20240901T184147Z
UID:10009613-1725717600-1725728400@archerstreet.co.uk
SUMMARY:Cabaret Showstopper Bottomless Brunch Soho
DESCRIPTION:The perfect bottomless brunch for all theatre lovers!  \nIf you love the theatre as much as we do\, you’re in for a treat at Archer Street Soho’s Cabaret Showstopper Bottomless Brunch! \nJoin us from 2pm to 5pm and get ready to be dazzled by our incredibly talented team as they perform the greatest hits from stage and screen! All while you enjoy bottomless pizza\, bubbly prosecco\, and refreshing beer. \nExpect to hear the biggest tunes from Chicago\, Cabaret\, Greatest Showman\, Moulin Rouge\, and much more. \nTicket Options: \n\nBottomless Ticket – £55:\n\n3 hours of show-stopping entertainment!\n90 minutes of bottomless pizza\, prosecco\, and beer!\n\n\nClassic Ticket – £25\n\n3 hours of fantastic entertainment!\n1 glass of bubbly prosecco to kickstart the fun.\nYour choice of one mouth-watering pizza.\n\n\n\nImportant Details: \n\nTickets are essential for entry.\nTable allocation will be set on the day and cannot be confirmed prior to the event.\nGuests will be asked to leave the venue once the event has finished.\nAdditional drinks will be available to purchase on the day outside of the bottomless if you so wish.\nPlease note\, we don’t accept hen or stag dos.\n\nSo throw on your best outfit\, gather your friends\, and join us for an unforgettable afternoon of theatre tunes\, fun\, and fabulousness! \nBook your tickets now and don’t miss out on the ultimate cabaret brunch experience!
URL:https://archerstreet.co.uk/event/cabaret-showstopper-brunch-2-3/
LOCATION:Soho
ATTACH;FMTTYPE=image/jpeg:https://archerstreet.co.uk/wp-content/uploads/2024/08/AS_West-End-Brunch_Banner-1.jpg
END:VEVENT
BEGIN:VEVENT
DTSTART;TZID=Europe/London:20240907T140000
DTEND;TZID=Europe/London:20240907T170000
DTSTAMP:20260422T102907
CREATED:20240619T151754Z
LAST-MODIFIED:20240806T175202Z
UID:10009618-1725717600-1725728400@archerstreet.co.uk
SUMMARY:Back To 90's Bottomless Brunch Notting Hill
DESCRIPTION:Join us in Archer Street Notting Hill as we travel back to the 90’s for an afternoon of non-stop throwback hits at this iconic Bottomless Brunch! \nNo Scrubs allowed at this brunch – let our talented performers take you on a trip down memory lane\, celebrating an era where Madonna and Mariah ruled the roost as they belt out 90’s throwback anthems. From 2pm to 5pm\, enjoy 90 minutes of bottomless bubbly and beer\, all whilst enjoying 3 hours of live performances from the Archer Street team\, with 90’s-inspired entertainment. \nExpect to hear Madonna\, Boyzone\, Usher\, and many more! \nTicket Options:  \n\nBottomless Ticket – £55:\n\n3 hours of show-stopping entertainment!\n90 minutes of bottomless pizza\, prosecco\, and beer!\n\n\nClassic Ticket – £25\n\n3 hours of fantastic entertainment!\n1 glass of bubbly prosecco to kickstart the fun.\nYour choice of one mouth-watering pizza.\n\n\n\nEssential Info: \n\nTickets are a must for entry.\nTable assignments are set on the day and can’t be confirmed beforehand.\nGuests will need to leave the venue once the event wraps up.\nWe run an over 25 policy.\nWe unfortunately don’t accept stag/hen parties.\n\nSo what you waiting for? Dust off those low-rise jeans\, gather your crew\, and get ready for an afternoon of unforgettable 90s vibes! \nSecure your tickets now for the biggest throwback party ever!
URL:https://archerstreet.co.uk/event/back-to-the-90s-brunch-notting-hill-2-2-2/
ATTACH;FMTTYPE=image/jpeg:https://archerstreet.co.uk/wp-content/uploads/2024/06/AS_Back-to-90s_Banner.jpg
END:VEVENT
BEGIN:VEVENT
DTSTART;TZID=Europe/London:20240914T140000
DTEND;TZID=Europe/London:20240914T170000
DTSTAMP:20260422T102907
CREATED:20240619T151308Z
LAST-MODIFIED:20240806T175214Z
UID:10009614-1726322400-1726333200@archerstreet.co.uk
SUMMARY:Back To 90's Bottomless Brunch Soho
DESCRIPTION:Join us in Archer Street Soho as we travel back to the 90’s for an afternoon of non-stop throwback hits at this iconic Bottomless Brunch! \nNo Scrubs allowed at this brunch – let our talented performers take you on a trip down memory lane\, celebrating an era where Madonna and Mariah ruled the roost as they belt out 90’s throwback anthems. From 2pm to 5pm\, enjoy 90 minutes of bottomless bubbly and beer\, all whilst enjoying 3 hours of live performances from the Archer Street team\, with 90’s-inspired entertainment. \nExpect to hear Madonna\, Boyzone\, Usher\, and many more! \nTicket Options:  \n\nBottomless Ticket – £55:\n\n3 hours of show-stopping entertainment!\n90 minutes of bottomless pizza\, prosecco\, and beer!\n\n\nStandard Ticket – £25\n\n3 hours of fantastic entertainment!\n1 glass of bubbly prosecco to kickstart the fun.\nYour choice of one mouth-watering pizza.\n\n\n\nEssential Info: \n\nTickets are a must for entry.\nTable assignments are set on the day and can’t be confirmed beforehand.\nGuests will need to leave the venue once the event wraps up.\nWe run an over 25 policy.\nWe unfortunately don’t accept stag/hen parties.\n\nSo what you waiting for? Dust off those low-rise jeans\, gather your crew\, and get ready for an afternoon of unforgettable 90s vibes! \nSecure your tickets now for the biggest throwback party ever!
URL:https://archerstreet.co.uk/event/back-to-the-90s-bottomless-brunch-soho-2/
LOCATION:Soho
ATTACH;FMTTYPE=image/jpeg:https://archerstreet.co.uk/wp-content/uploads/2024/06/AS_Back-to-90s_Banner.jpg
END:VEVENT
BEGIN:VEVENT
DTSTART;TZID=Europe/London:20240914T140000
DTEND;TZID=Europe/London:20240914T170000
DTSTAMP:20260422T102907
CREATED:20240624T124911Z
LAST-MODIFIED:20240901T182850Z
UID:10009627-1726322400-1726333200@archerstreet.co.uk
SUMMARY:Cabaret Showstopper Bottomless Brunch SW11
DESCRIPTION:The perfect bottomless brunch for all theatre lovers!  \nIf you love the theatre as much as we do\, you’re in for a treat at Archer Street SW11’s Cabaret Showstopper Bottomless Brunch! \nJoin us from 2pm to 5pm and get ready to be dazzled by our incredibly talented team as they perform the greatest hits from stage and screen! All while you enjoy bottomless pizza\, bubbly prosecco\, and refreshing beer. \nExpect to hear the biggest tunes from Chicago\, Cabaret\, Greatest Showman\, Moulin Rouge\, and much more. \nTicket Options: \n\nBottomless Ticket – £55:\n\n3 hours of show-stopping entertainment!\n90 minutes of bottomless pizza\, prosecco\, and beer!\nYes\, you read that right – endless pizza and drinks!\n\n\nStandard Ticket – £25\n\n3 hours of fantastic entertainment!\n1 glass of bubbly prosecco to kickstart the fun.\nYour choice of one mouth-watering pizza.\n\n\n\nImportant Details: \n\nTickets are essential for entry.\nTable allocation will be set on the day and cannot be confirmed prior to the event.\nGuests will be asked to leave the venue once the event has finished.\nAdditional drinks will be available to purchase on the day outside of the bottomless if you so wish.\nPlease note\, we don’t accept hen or stag dos.\n\nSo throw on your best outfit\, gather your friends\, and join us for an unforgettable afternoon of showtunes\, fun\, and fabulousness! \nBook your tickets now and don’t miss out on the ultimate cabaret brunch experience!
URL:https://archerstreet.co.uk/event/cabaret-showstopper-brunch-sw11-3-2/
LOCATION:SW11
ATTACH;FMTTYPE=image/jpeg:https://archerstreet.co.uk/wp-content/uploads/2024/08/AS_West-End-Brunch_Banner-1.jpg
END:VEVENT
BEGIN:VEVENT
DTSTART;TZID=Europe/London:20240921T130000
DTEND;TZID=Europe/London:20240921T160000
DTSTAMP:20260422T102907
CREATED:20240619T152631Z
LAST-MODIFIED:20240901T183339Z
UID:10009622-1726923600-1726934400@archerstreet.co.uk
SUMMARY:Cabaret Showstopper Bottomless Brunch Notting Hill
DESCRIPTION:The perfect bottomless brunch for all theatre lovers!  \nIf you love the theatre as much as we do\, you’re in for a treat at Archer Street Notting Hill’s Cabaret Showstopper Bottomless Brunch! \nJoin us from 2pm to 5pm and get ready to be dazzled by our incredibly talented team as they perform the greatest hits from stage and screen! All while you enjoy bottomless pizza\, bubbly prosecco\, and refreshing beer. \nExpect to hear the biggest tunes from Chicago\, Cabaret\, Greatest Showman\, Moulin Rouge\, and much more. \nTicket Options: \n\nBottomless Ticket – £55:\n\n3 hours of show-stopping entertainment!\n90 minutes of bottomless pizza\, prosecco\, and beer!\n\n\nStandard Ticket – £25\n\n3 hours of fantastic entertainment!\n1 glass of bubbly prosecco to kickstart the fun.\nYour choice of one mouth-watering pizza.\n\n\n\nImportant Details: \n\nTickets are essential for entry.\nTable allocation will be set on the day and cannot be confirmed prior to the event.\nGuests will be asked to leave the venue once the event has finished.\nAdditional drinks will be available to purchase on the day outside of the bottomless if you so wish.\nPlease note\, we don’t accept hen or stag dos.\n\nSo throw on your best outfit\, gather your friends\, and join us for an unforgettable afternoon of showtunes\, fun\, and fabulousness! \nBook your tickets now and don’t miss out on the ultimate cabaret brunch experience!
URL:https://archerstreet.co.uk/event/cabaret-showstopper-bottomless-brunch-notting-hill-2/
CATEGORIES:Brunch
ATTACH;FMTTYPE=image/jpeg:https://archerstreet.co.uk/wp-content/uploads/2024/08/AS_West-End-Brunch_Banner-1.jpg
END:VEVENT
BEGIN:VEVENT
DTSTART;TZID=Europe/London:20240921T140000
DTEND;TZID=Europe/London:20240921T170000
DTSTAMP:20260422T102907
CREATED:20240619T151338Z
LAST-MODIFIED:20240901T183914Z
UID:10009615-1726927200-1726938000@archerstreet.co.uk
SUMMARY:Cabaret Showstopper Bottomless Brunch Soho
DESCRIPTION:The perfect bottomless brunch for all theatre lovers!  \nIf you love the theatre as much as we do\, you’re in for a treat at Archer Street Soho’s Cabaret Showstopper Bottomless Brunch! \nJoin us from 2pm to 5pm and get ready to be dazzled by our incredibly talented team as they perform the greatest hits from stage and screen! All while you enjoy bottomless pizza\, bubbly prosecco\, and refreshing beer. \nExpect to hear the biggest tunes from Chicago\, Cabaret\, Greatest Showman\, Moulin Rouge\, and much more. \nTicket Options: \n\nBottomless Ticket – £55:\n\n3 hours of show-stopping entertainment!\n90 minutes of bottomless pizza\, prosecco\, and beer!\nYes\, you read that right – endless pizza and drinks!\n\n\nStandard Ticket – £25\n\n3 hours of fantastic entertainment!\n1 glass of bubbly prosecco to kickstart the fun.\nYour choice of one mouth-watering pizza.\n\n\n\nImportant Details: \n\nTickets are essential for entry.\nTable allocation will be set on the day and cannot be confirmed prior to the event.\nGuests will be asked to leave the venue once the event has finished.\nAdditional drinks will be available to purchase on the day outside of the bottomless if you so wish.\nPlease note\, we don’t accept hen or stag dos.\n\nSo throw on your best outfit\, gather your friends\, and join us for an unforgettable afternoon of theatre tunes\, fun\, and fabulousness! \nBook your tickets now and don’t miss out on the ultimate cabaret brunch experience!
URL:https://archerstreet.co.uk/event/cabaret-showstopper-bottomless-brunch-soho/
LOCATION:Soho
ATTACH;FMTTYPE=image/jpeg:https://archerstreet.co.uk/wp-content/uploads/2024/08/AS_West-End-Brunch_Banner-1.jpg
END:VEVENT
BEGIN:VEVENT
DTSTART;TZID=Europe/London:20240928T140000
DTEND;TZID=Europe/London:20240928T170000
DTSTAMP:20260422T102907
CREATED:20240619T151505Z
LAST-MODIFIED:20240806T161654Z
UID:10009616-1727532000-1727542800@archerstreet.co.uk
SUMMARY:Back To 90's Bottomless Brunch Soho
DESCRIPTION:Join us in Archer Street Soho as we travel back to the 90’s for an afternoon of non-stop throwback hits at this iconic Bottomless Brunch! \nNo Scrubs allowed at this brunch – let our talented performers take you on a trip down memory lane\, celebrating an era where Madonna and Mariah ruled the roost as they belt out 90’s throwback anthems. From 2pm to 5pm\, enjoy 90 minutes of bottomless bubbly and beer\, all whilst enjoying 3 hours of live performances from the Archer Street team\, with 90’s-inspired entertainment. \nExpect to hear Madonna\, Boyzone\, Usher\, and many more! \nTicket Options:  \n\nBottomless Ticket – £55:\n\n3 hours of show-stopping entertainment!\n90 minutes of bottomless pizza\, prosecco\, and beer!\n\n\nStandard Ticket – £25\n\n3 hours of fantastic entertainment!\n1 glass of bubbly prosecco to kickstart the fun.\nYour choice of one mouth-watering pizza.\n\n\n\nEssential Info: \n\nTickets are a must for entry.\nTable assignments are set on the day and can’t be confirmed beforehand.\nGuests will need to leave the venue once the event wraps up.\nWe run an over 25 policy.\nWe unfortunately don’t accept stag/hen parties.\n\nSo what you waiting for? Dust off those low-rise jeans\, gather your crew\, and get ready for an afternoon of unforgettable 90s vibes! \nSecure your tickets now for the biggest throwback party ever!
URL:https://archerstreet.co.uk/event/back-to-the-90s-bottomless-brunch-soho-3/
LOCATION:Soho
ATTACH;FMTTYPE=image/jpeg:https://archerstreet.co.uk/wp-content/uploads/2024/06/AS_Back-to-90s_Banner.jpg
END:VEVENT
BEGIN:VEVENT
DTSTART;TZID=Europe/London:20240928T140000
DTEND;TZID=Europe/London:20240928T170000
DTSTAMP:20260422T102907
CREATED:20240806T174528Z
LAST-MODIFIED:20240903T151703Z
UID:10009642-1727532000-1727542800@archerstreet.co.uk
SUMMARY:Just Dance Bottomless Brunch SW11
DESCRIPTION:Re-charge those iPods and dig out those low-rise jeans\, because we’re bringing back all your favourite 00’s hits in one jam-packed afternoon of iconic throwbacks! \nGet Your Freak On as we transport you back to one of the most iconic decades in music history – expect to hear live vocal performances to the likes of Britney\, Beyonce\, Gaga and many more! Think up on the tables at this all-singing\, all-dancing afternoon of non-stop throwbacks. \nSo What You Waiting For? Party like it’s 2003 at London’s most iconic brunch\, with 3 hours of live hits from professional vocalists\, plus 90 minutes of bottomless Prosecco\, pizza & beer! \nThe brunch starts at 2pm and runs until 5pm. \n  \nTicket Options: \n£55 Bottomless Ticket – 3 hours of live entertainment\, plus 90 minutes of bottomless Prosecco\, pizza & beer. \n£25 Standard Ticket – 3 hours of live entertainment\, plus a glass of Prosecco on arrival and your choice of pizza. \n  \nT&C’s: \nTickets are essential for entry. \nDue to health and safety\, guests will be asked to depart after the event has finished. \nPlease note\, we don’t accept hen and stag dos.
URL:https://archerstreet.co.uk/event/back-to-the-00s-bottomless-brunch-sw11/
LOCATION:SW11
ATTACH;FMTTYPE=image/jpeg:https://archerstreet.co.uk/wp-content/uploads/2024/08/AS_Just-Dance_Banner.jpg
END:VEVENT
END:VCALENDAR