BEGIN:VCALENDAR
VERSION:2.0
PRODID:-//Archer Street - ECPv6.13.2.1//NONSGML v1.0//EN
CALSCALE:GREGORIAN
METHOD:PUBLISH
X-WR-CALNAME:Archer Street
X-ORIGINAL-URL:https://archerstreet.co.uk
X-WR-CALDESC:Events for Archer Street
REFRESH-INTERVAL;VALUE=DURATION:PT1H
X-Robots-Tag:noindex
X-PUBLISHED-TTL:PT1H
BEGIN:VTIMEZONE
TZID:Europe/London
BEGIN:DAYLIGHT
TZOFFSETFROM:+0000
TZOFFSETTO:+0100
TZNAME:BST
DTSTART:20250330T010000
END:DAYLIGHT
BEGIN:STANDARD
TZOFFSETFROM:+0100
TZOFFSETTO:+0000
TZNAME:GMT
DTSTART:20251026T010000
END:STANDARD
END:VTIMEZONE
BEGIN:VEVENT
DTSTART;TZID=Europe/London:20251108T140000
DTEND;TZID=Europe/London:20251108T170000
DTSTAMP:20260424T185944
CREATED:20250730T163232Z
LAST-MODIFIED:20250929T140357Z
UID:10010092-1762610400-1762621200@archerstreet.co.uk
SUMMARY:ABBA Immersive Brunch\, SW11
DESCRIPTION:Take a Chance on… Brunch?\nJoin us in Archer Street\, SW11\, for this ABBA-inspired immersive brunch. \nBrunch like a Dancing Queen (and king)\, sing\, sip and dance your way through Voulez-Vous\, Super Trouper\, Mamma Mia\, Waterloo and more! \nSequins encouraged\, high notes are a must! \n  \nTicket Options: \n\n£55 Bottomless Ticket – 3 hours of live throwback entertainment\, plus 90 minutes of bottomless pizza\, Prosecco & beer.\n£25 Standard Ticket – 3 hours of live throwback entertainment\, plus a glass of Prosecco on arrival and your choice of pizza.\n\n  \nEssential Info: \n\nTickets are a must for entry and are non-refundable.\nBottomless starts 14:30 and ends at 16:00. Please ensure you arrive promptly to avoid missing valuable bottomless time.\nDue to health and safety\, guests will be asked to depart after the event finishes.\nWe run an over-25 policy.\nWe unfortunately don’t accept stag/hen parties.\nAll guests in your party must purchase the same ticket type\, or else we cannot guarantee you’ll be seated together.\nSmaller groups may be in shared areas.\n\n  \n\n 
URL:https://archerstreet.co.uk/event/abba-immersive-brunch-sw11-0811/
LOCATION:SW11
CATEGORIES:Brunch
ATTACH;FMTTYPE=image/jpeg:https://archerstreet.co.uk/wp-content/uploads/2025/07/Abba-DMN-v2.jpg
END:VEVENT
BEGIN:VEVENT
DTSTART;TZID=Europe/London:20251108T140000
DTEND;TZID=Europe/London:20251108T170000
DTSTAMP:20260424T185944
CREATED:20250731T095938Z
LAST-MODIFIED:20250929T134936Z
UID:10010122-1762610400-1762621200@archerstreet.co.uk
SUMMARY:Back to the 90s Immersive Brunch\, Soho
DESCRIPTION:Join us in Archer Street\, Soho\, as we travel back to the 90s for an afternoon of non-stop throwback hits at this iconic Immersive Brunch! \nNo Scrubs allowed at this brunch – let our talented performers take you on a trip down memory lane\, celebrating an era where Madonna and Mariah ruled the roost as they belt out ’90s throwback anthems. From 2pm to 5pm\, enjoy 90 minutes of bottomless bubbly and beer\, all whilst enjoying 3 hours of live performances from the Archer Street team\, with 90s-inspired entertainment. \nExpect to hear Madonna\, Boyzone\, Usher\, and many more! \nTicket Options:  \n\nBottomless Ticket – £55:\n\n3 hours of show-stopping entertainment!\n90 minutes of bottomless pizza\, prosecco\, and beer!\n\n\nStandard Ticket – £25\n\n3 hours of fantastic entertainment!\n1 glass of bubbly prosecco to kickstart the fun.\nYour choice of one mouth-watering pizza.\n\n\n\nEssential Info: \n\n\n\nTickets are a must for entry and are non-refundable.\nBottomless starts at 14:30 and ends at 16:00. Please ensure you arrive promptly to avoid missing valuable bottomless time.\nDue to health and safety\, guests will be asked to depart after the event finishes.\nWe run an over-25 policy.\nWe unfortunately don’t accept stag/hen parties.\nAll guests in your party must purchase the same ticket type\, or else we cannot guarantee you’ll be seated together.\nSmaller groups may be in shared areas.\n\n\n\nSo what you waiting for? Dust off those low-rise jeans\, gather your crew\, and get ready for an afternoon of unforgettable 90s vibes! \nSecure your tickets now for the biggest throwback party ever! \n  \n\n 
URL:https://archerstreet.co.uk/event/back-to-the-90s-immersive-brunch-soho-0811/
LOCATION:Soho
CATEGORIES:Brunch
ATTACH;FMTTYPE=image/jpeg:https://archerstreet.co.uk/wp-content/uploads/2024/06/AS_Back-to-90s_Banner.jpg
END:VEVENT
BEGIN:VEVENT
DTSTART;TZID=Europe/London:20251109T140000
DTEND;TZID=Europe/London:20251109T170000
DTSTAMP:20260424T185944
CREATED:20250812T074706Z
LAST-MODIFIED:20250929T132233Z
UID:10010137-1762696800-1762707600@archerstreet.co.uk
SUMMARY:Disney Family Immersive Brunch\, Notting Hill
DESCRIPTION:Sundays 2-5pm\nAdult ticket £15\n*Child ticket £10\nStep into a world of magic and music at our Disney Family Brunch. \nGet ready to be taken to infinity and beyond with live performances of all your favourite Disney hits – from Frozen and The Lion King\, to Beauty & The Beast\, The Little Mermaid and beyond. The perfect Sunday treat for kids and grown-ups alike! \n✨ Sing along to all your Disney favourites with live performances from our talented West End cast — featuring songs from Frozen\, The Lion King\, Beauty & The Beast\, The Little Mermaid\, and more! \n👨‍👩‍👧‍👦 A fun-filled event for the whole family.\n🎭 Incredible live singing and performances.\n🧚‍♀️ Disney magic in every moment. \nWhether you’re young or just young at heart\, come dressed as your favourite Disney character and enjoy 3 magical hours of music\, laughter\, and memories that will last a lifetime. \n*Under 3s go free. \n  \nTicket Options:\n£15 Adult – 3 hours of live entertainment\, a glass of prosecco or beer and pizza. \n£10 Kids (3+ years) – 3 hours of live entertainment\, pizza and a drink. \n  \nT&C’s\nChildren under 16 years must be accompanied by an adult. \nUnder 3 years go free (max of one per family booking). A ticket must be purchased (at no cost). \nTickets are a must for entry and are non-refundable. \nAll guests in your party must purchase the same ticket type\, or else we cannot guarantee you’ll be seated together. \nSupervising adult-to-child ratios sometimes applies. \nIf children behave disruptively or unsafe situations arise\, the guardian (or supervisor) is ultimately responsible for how they’re managed and ensuring everyone’s safety. \nMedical conditions\, allergies\, or special needs should be disclosed at booking; organisers may restrict participation in certain activities for safety. \nDue to health and safety\, guests will be asked to depart after the event finishes. \n  \n\n\n\n 
URL:https://archerstreet.co.uk/event/disney-family-immersive-brunch-notting-hill-0911/
CATEGORIES:Brunch
ATTACH;FMTTYPE=image/jpeg:https://archerstreet.co.uk/wp-content/uploads/2025/08/Disney-family-DMN-ASWebsite.jpg
END:VEVENT
BEGIN:VEVENT
DTSTART;TZID=Europe/London:20251115T140000
DTEND;TZID=Europe/London:20251115T170000
DTSTAMP:20260424T185944
CREATED:20250730T171536Z
LAST-MODIFIED:20250929T134437Z
UID:10010096-1763215200-1763226000@archerstreet.co.uk
SUMMARY:ABBA Immersive Brunch\, Notting Hill
DESCRIPTION:Take a Chance on… Brunch?\nJoin us in Archer Street\, Notting Hill\, for this ABBA-inspired immersive brunch. \nBrunch like a Dancing Queen (and king)\, sing\, sip and dance your way through Voulez-Vous\, Super Trouper\, Mamma Mia\, Waterloo and more! \nSequins encouraged\, high notes are a must! \n  \nTicket Options: \n\n£55 Bottomless Ticket – 3 hours of live throwback entertainment\, plus 90 minutes of bottomless pizza\, Prosecco & beer.\n£25 Standard Ticket – 3 hours of live throwback entertainment\, plus a glass of Prosecco on arrival and your choice of pizza.\n\n  \nEssential Info: \n\nTickets are a must for entry and are non-refundable.\nBottomless starts 14:30 and ends at 16:00. Please ensure you arrive promptly to avoid missing valuable bottomless time.\nDue to health and safety\, guests will be asked to depart after the event finishes.\nWe run an over-25 policy.\nWe unfortunately don’t accept stag/hen parties.\nAll guests in your party must purchase the same ticket type\, or else we cannot guarantee you’ll be seated together.\nSmaller groups may be in shared areas.\n\n  \n\n 
URL:https://archerstreet.co.uk/event/abba-immersive-brunch-notting-hill-1511/
CATEGORIES:Brunch
ATTACH;FMTTYPE=image/jpeg:https://archerstreet.co.uk/wp-content/uploads/2025/07/Abba-DMN-v2.jpg
END:VEVENT
BEGIN:VEVENT
DTSTART;TZID=Europe/London:20251122T140000
DTEND;TZID=Europe/London:20251122T170000
DTSTAMP:20260424T185944
CREATED:20250730T172606Z
LAST-MODIFIED:20250929T120905Z
UID:10010097-1763820000-1763830800@archerstreet.co.uk
SUMMARY:Christmas Immersive Brunch at Archer Street\, Soho
DESCRIPTION:🎅🍕 Elevate your festive celebrations every Saturday from November 22nd to December 20th at Archer Street\, Soho! 🍕🎅 \nJoin us from 2-5pm to unwrap the spirit of Christmas at our all-singing\, all-dancing bottomless brunch! With live vocal performances of all your favourite Christmas songs 🎄 \nFor just £55 a ticket\, indulge in bottomless pizza\, Prosecco\, mulled wine\, and beer for 90 minutes\, all while being serenaded by our talented singers performing your favourite Christmas tunes. \nIt’s a jolly good time waiting for you! \nBook your spot today. 🥂🎶🍾 \n  \nEssential Info: \n\nTickets are a must for entry and are non-refundable.\nBottomless starts at 14:30 and ends at 16:00. Please ensure you arrive promptly to avoid missing valuable bottomless time.\nDue to health and safety\, guests will be asked to depart after the event finishes.\nWe run an over-25 policy.\nWe unfortunately don’t accept stag/hen parties.\nAll guests in your party must purchase the same ticket type\, or else we cannot guarantee you’ll be seated together.\nSmaller groups may be in shared areas.\n\n  \n\n 
URL:https://archerstreet.co.uk/event/christmas-immersive-brunch-at-archer-street-soho-2211/
LOCATION:Soho
CATEGORIES:Brunch
ATTACH;FMTTYPE=image/jpeg:https://archerstreet.co.uk/wp-content/uploads/2025/08/AS-Christmas-2.jpg
END:VEVENT
BEGIN:VEVENT
DTSTART;TZID=Europe/London:20251122T140000
DTEND;TZID=Europe/London:20251122T170000
DTSTAMP:20260424T185944
CREATED:20250731T083702Z
LAST-MODIFIED:20250929T120828Z
UID:10010106-1763820000-1763830800@archerstreet.co.uk
SUMMARY:Christmas Immersive Brunch at Archer Street\, Notting Hill
DESCRIPTION:🎅🍕 Elevate your festive celebrations every Saturday from November 22nd to December 20th at Archer Street\, Notting Hill! 🍕🎅 \nJoin us from 2-5pm to unwrap the spirit of Christmas at our all-singing\, all-dancing bottomless brunch! With live vocal performances of all your favourite Christmas songs 🎄 \nFor just £55 a ticket\, indulge in bottomless pizza\, Prosecco\, mulled wine\, and beer for 90 minutes\, all while being serenaded by our talented singers performing your favourite Christmas tunes. \nIt’s a jolly good time waiting for you! \nBook your spot today. 🥂🎶🍾 \n  \nEssential Info: \n\nTickets are a must for entry and are non-refundable.\nBottomless starts at 14:30 and ends at 16:00. Please ensure you arrive promptly to avoid missing valuable bottomless time.\nDue to health and safety\, guests will be asked to depart after the event finishes.\nWe run an over-25 policy.\nWe unfortunately don’t accept stag/hen parties.\nAll guests in your party must purchase the same ticket type\, or else we cannot guarantee you’ll be seated together.\nSmaller groups may be in shared areas.\n\n  \n\n 
URL:https://archerstreet.co.uk/event/christmas-immersive-brunch-at-archer-street-notting-hill-2211/
CATEGORIES:Brunch
ATTACH;FMTTYPE=image/jpeg:https://archerstreet.co.uk/wp-content/uploads/2025/08/AS-Christmas-2.jpg
END:VEVENT
BEGIN:VEVENT
DTSTART;TZID=Europe/London:20251122T140000
DTEND;TZID=Europe/London:20251122T170000
DTSTAMP:20260424T185944
CREATED:20250731T084038Z
LAST-MODIFIED:20250925T120728Z
UID:10010107-1763820000-1763830800@archerstreet.co.uk
SUMMARY:Christmas Immersive Brunch at Archer Street\, SW11
DESCRIPTION:🎅🍕 Elevate your festive celebrations every Saturday from November 22nd to December 20th at Archer Street\, SW11! 🍕🎅 \nJoin us from 2-5pm to unwrap the spirit of Christmas at our all-singing\, all-dancing bottomless brunch! With live vocal performances of all your favourite Christmas songs 🎄 \nFor just £55 a ticket\, indulge in bottomless pizza\, Prosecco\, mulled wine\, and beer for 90 minutes\, all while being serenaded by our talented singers performing your favourite Christmas tunes. \nIt’s a jolly good time waiting for you! \nBook your spot today. 🥂🎶🍾 \n  \nEssential Info: \n\nTickets are a must for entry and are non-refundable.\nBottomless starts at 14:30 and ends at 16:00. Please ensure you arrive promptly to avoid missing valuable bottomless time.\nDue to health and safety\, guests will be asked to depart after the event finishes.\nWe run an over-25 policy.\nWe unfortunately don’t accept stag/hen parties.\nAll guests in your party must purchase the same ticket type\, or else we cannot guarantee you’ll be seated together.\nSmaller groups may be in shared areas.\n\n  \n\n 
URL:https://archerstreet.co.uk/event/christmas-immersive-brunch-at-archer-street-sw11-2211/
LOCATION:SW11
CATEGORIES:Brunch
ATTACH;FMTTYPE=image/jpeg:https://archerstreet.co.uk/wp-content/uploads/2025/08/AS-Christmas-2.jpg
END:VEVENT
BEGIN:VEVENT
DTSTART;TZID=Europe/London:20251123T140000
DTEND;TZID=Europe/London:20251123T170000
DTSTAMP:20260424T185944
CREATED:20250812T074902Z
LAST-MODIFIED:20250929T132143Z
UID:10010138-1763906400-1763917200@archerstreet.co.uk
SUMMARY:Disney Family Immersive Brunch\, Notting Hill
DESCRIPTION:Sundays 2-5pm\nAdult ticket £15\n*Child ticket £10\nStep into a world of magic and music at our Disney Family Brunch. \nGet ready to be taken to infinity and beyond with live performances of all your favourite Disney hits – from Frozen and The Lion King\, to Beauty & The Beast\, The Little Mermaid and beyond. The perfect Sunday treat for kids and grown-ups alike! \n✨ Sing along to all your Disney favourites with live performances from our talented West End cast — featuring songs from Frozen\, The Lion King\, Beauty & The Beast\, The Little Mermaid\, and more! \n👨‍👩‍👧‍👦 A fun-filled event for the whole family.\n🎭 Incredible live singing and performances.\n🧚‍♀️ Disney magic in every moment. \nWhether you’re young or just young at heart\, come dressed as your favourite Disney character and enjoy 3 magical hours of music\, laughter\, and memories that will last a lifetime. \n*Under 3s go free. \n  \nTicket Options:\n£15 Adult – 3 hours of live entertainment\, a glass of prosecco or beer and pizza. \n£10 Kids (3+ years) – 3 hours of live entertainment\, pizza and a drink. \n  \nT&C’s\nChildren under 16 years must be accompanied by an adult. \nUnder 3 years go free (max of one per family booking). A ticket must be purchased (at no cost). \nTickets are a must for entry and are non-refundable. \nAll guests in your party must purchase the same ticket type\, or else we cannot guarantee you’ll be seated together. \nSupervising adult-to-child ratios sometimes applies. \nIf children behave disruptively or unsafe situations arise\, the guardian (or supervisor) is ultimately responsible for how they’re managed and ensuring everyone’s safety. \nMedical conditions\, allergies\, or special needs should be disclosed at booking; organisers may restrict participation in certain activities for safety. \nDue to health and safety\, guests will be asked to depart after the event finishes. \n  \n\n\n\n 
URL:https://archerstreet.co.uk/event/disney-family-immersive-brunch-notting-hill-2311/
CATEGORIES:Brunch
ATTACH;FMTTYPE=image/jpeg:https://archerstreet.co.uk/wp-content/uploads/2025/08/Disney-family-DMN-ASWebsite.jpg
END:VEVENT
BEGIN:VEVENT
DTSTART;TZID=Europe/London:20251129T140000
DTEND;TZID=Europe/London:20251129T170000
DTSTAMP:20260424T185944
CREATED:20250730T173231Z
LAST-MODIFIED:20250929T120719Z
UID:10010098-1764424800-1764435600@archerstreet.co.uk
SUMMARY:Christmas Immersive Brunch at Archer Street\, Soho
DESCRIPTION:🎅🍕 Elevate your festive celebrations every Saturday from November 22nd to December 20th at Archer Street\, Soho! 🍕🎅 \nJoin us from 2-5pm to unwrap the spirit of Christmas at our all-singing\, all-dancing bottomless brunch! With live vocal performances of all your favourite Christmas songs 🎄 \nFor just £55 a ticket\, indulge in bottomless pizza\, Prosecco\, mulled wine\, and beer for 90 minutes\, all while being serenaded by our talented singers performing your favourite Christmas tunes. \nIt’s a jolly good time waiting for you! \nBook your spot today. 🥂🎶🍾 \n  \nEssential Info: \n\nTickets are a must for entry and are non-refundable.\nBottomless starts at 14:30 and ends at 16:00. Please ensure you arrive promptly to avoid missing valuable bottomless time.\nDue to health and safety\, guests will be asked to depart after the event finishes.\nWe run an over-25 policy.\nWe unfortunately don’t accept stag/hen parties.\nAll guests in your party must purchase the same ticket type\, or else we cannot guarantee you’ll be seated together.\nSmaller groups may be in shared areas.\n\n 
URL:https://archerstreet.co.uk/event/christmas-immersive-brunch-at-archer-street-soho-2911/
LOCATION:Soho
CATEGORIES:Brunch
ATTACH;FMTTYPE=image/jpeg:https://archerstreet.co.uk/wp-content/uploads/2025/08/AS-Christmas-2.jpg
END:VEVENT
BEGIN:VEVENT
DTSTART;TZID=Europe/London:20251129T140000
DTEND;TZID=Europe/London:20251129T170000
DTSTAMP:20260424T185944
CREATED:20250731T083543Z
LAST-MODIFIED:20250929T120558Z
UID:10010105-1764424800-1764435600@archerstreet.co.uk
SUMMARY:Christmas Immersive Brunch at Archer Street\, Notting Hill
DESCRIPTION:🎅🍕 Elevate your festive celebrations every Saturday from November 22nd to December 20th at Archer Street\, Notting Hill! 🍕🎅 \nJoin us from 2-5pm to unwrap the spirit of Christmas at our all-singing\, all-dancing bottomless brunch! With live vocal performances of all your favourite Christmas songs 🎄 \nFor just £55 a ticket\, indulge in bottomless pizza\, Prosecco\, mulled wine\, and beer for 90 minutes\, all while being serenaded by our talented singers performing your favourite Christmas tunes. \nIt’s a jolly good time waiting for you! \nBook your spot today. 🥂🎶🍾 \n  \nEssential Info: \n\nTickets are a must for entry and are non-refundable.\nBottomless starts at 14:30 and ends at 16:00. Please ensure you arrive promptly to avoid missing valuable bottomless time.\nDue to health and safety\, guests will be asked to depart after the event finishes.\nWe run an over-25 policy.\nWe unfortunately don’t accept stag/hen parties.\nAll guests in your party must purchase the same ticket type\, or else we cannot guarantee you’ll be seated together.\nSmaller groups may be in shared areas.\n\n  \n\n 
URL:https://archerstreet.co.uk/event/christmas-immersive-brunch-at-archer-street-notting-hill-2911/
CATEGORIES:Brunch
ATTACH;FMTTYPE=image/jpeg:https://archerstreet.co.uk/wp-content/uploads/2025/08/AS-Christmas-2.jpg
END:VEVENT
BEGIN:VEVENT
DTSTART;TZID=Europe/London:20251129T140000
DTEND;TZID=Europe/London:20251129T170000
DTSTAMP:20260424T185944
CREATED:20250731T084300Z
LAST-MODIFIED:20250929T120304Z
UID:10010108-1764424800-1764435600@archerstreet.co.uk
SUMMARY:Christmas Immersive Brunch at Archer Street\, SW11
DESCRIPTION:🎅🍕 Elevate your festive celebrations every Saturday from November 22nd to December 20th at Archer Street\, SW11! 🍕🎅 \nJoin us from 2-5pm to unwrap the spirit of Christmas at our all-singing\, all-dancing bottomless brunch! With live vocal performances of all your favourite Christmas songs 🎄 \nFor just £55 a ticket\, indulge in bottomless pizza\, Prosecco\, mulled wine\, and beer for 90 minutes\, all while being serenaded by our talented singers performing your favourite Christmas tunes. \nIt’s a jolly good time waiting for you! \nBook your spot today. 🥂🎶🍾 \n  \nEssential Info: \n\nTickets are a must for entry and are non-refundable.\nBottomless starts at 14:30 and ends at 16:00. Please ensure you arrive promptly to avoid missing valuable bottomless time.\nDue to health and safety\, guests will be asked to depart after the event finishes.\nWe run an over-25 policy.\nWe unfortunately don’t accept stag/hen parties.\nAll guests in your party must purchase the same ticket type\, or else we cannot guarantee you’ll be seated together.\nSmaller groups may be in shared areas.\n\n  \n\n 
URL:https://archerstreet.co.uk/event/christmas-immersive-brunch-at-archer-street-sw11-2911/
LOCATION:SW11
CATEGORIES:Brunch
ATTACH;FMTTYPE=image/jpeg:https://archerstreet.co.uk/wp-content/uploads/2025/08/AS-Christmas-2.jpg
END:VEVENT
END:VCALENDAR