BEGIN:VCALENDAR
VERSION:2.0
PRODID:-//Archer Street - ECPv6.13.2.1//NONSGML v1.0//EN
CALSCALE:GREGORIAN
METHOD:PUBLISH
X-ORIGINAL-URL:https://archerstreet.co.uk
X-WR-CALDESC:Events for Archer Street
REFRESH-INTERVAL;VALUE=DURATION:PT1H
X-Robots-Tag:noindex
X-PUBLISHED-TTL:PT1H
BEGIN:VTIMEZONE
TZID:Europe/London
BEGIN:DAYLIGHT
TZOFFSETFROM:+0000
TZOFFSETTO:+0100
TZNAME:BST
DTSTART:20260329T010000
END:DAYLIGHT
BEGIN:STANDARD
TZOFFSETFROM:+0100
TZOFFSETTO:+0000
TZNAME:GMT
DTSTART:20261025T010000
END:STANDARD
END:VTIMEZONE
BEGIN:VEVENT
DTSTART;TZID=Europe/London:20260208T140000
DTEND;TZID=Europe/London:20260208T170000
DTSTAMP:20260423T225414
CREATED:20251121T105226Z
LAST-MODIFIED:20260415T150753Z
UID:10010229-1770559200-1770570000@archerstreet.co.uk
SUMMARY:Disney Family Immersive Brunch\, Northcote Road
DESCRIPTION:Sundays 2-5pm\nAdult ticket £15\n*Child ticket £10\nStep into a world of magic and music at our Disney Family Brunch. \nGet ready to be taken to infinity and beyond with live performances of all your favourite Disney hits – from Frozen and The Lion King\, to Beauty & The Beast\, The Little Mermaid and beyond. The perfect Sunday treat for kids and grown-ups alike! \nSing along to all your Disney favourites with live performances from our talented West End cast – featuring songs from Frozen\, The Lion King\, Beauty & The Beast\, The Little Mermaid\, and more! \nA fun-filled event for the whole family. \nIncredible live singing and performances. \nDisney magic in every moment. \nWhether you’re young or just young at heart\, come dressed as your favourite Disney character and enjoy 3 magical hours of music\, laughter\, and memories that will last a lifetime. \n*Under 3s go free. \n  \nTicket Options:\n£15 Adult – 3 hours of live entertainment\, a glass of prosecco or beer and pizza. \n£10 Kids (3+ years) – 3 hours of live entertainment\, pizza and a drink. \n  \nT&C’s\nChildren under 16 years must be accompanied by an adult. \nUnder 3 years go free (max of one per family booking). A ticket must be purchased (at no cost). \nTickets are a must for entry and are non-refundable. \nGuests may bring a pram\, but please note it will be stored with us during the event. \nAll guests in your party must purchase the same ticket type\, or else we cannot guarantee you’ll be seated together. \nSupervising adult-to-child ratios sometimes applies. \nIf children behave disruptively or unsafe situations arise\, the guardian (or supervisor) is ultimately responsible for how they’re managed and ensuring everyone’s safety. \nMedical conditions\, allergies\, or special needs should be disclosed at booking; organisers may restrict participation in certain activities for safety. \nDue to health and safety\, guests will be asked to depart after the event finishes. \n  \n\n 
URL:https://archerstreet.co.uk/event/disney-family-immersive-brunch-sw11/2026-02-08/
LOCATION:SW11
CATEGORIES:Brunch
ATTACH;FMTTYPE=image/jpeg:https://archerstreet.co.uk/wp-content/uploads/2025/11/thumbnail_AS_Digital_DisneyKids_017.jpg
END:VEVENT
BEGIN:VEVENT
DTSTART;TZID=Europe/London:20260214T140000
DTEND;TZID=Europe/London:20260214T170000
DTSTAMP:20260423T225414
CREATED:20251204T120730Z
LAST-MODIFIED:20260408T115510Z
UID:10010238-1771077600-1771088400@archerstreet.co.uk
SUMMARY:Back To 90's Bottomless Brunch Northcote Road
DESCRIPTION:Join us in Archer Street SW11 as we travel back to the 90’s for an afternoon of non-stop throwback hits at this iconic Bottomless Brunch! \nNo Scrubs allowed at this brunch – let our talented performers take you on a trip down memory lane\, celebrating an era where Madonna and Mariah ruled the roost as they belt out 90’s throwback anthems. From 2pm to 5pm\, enjoy 90 minutes of bottomless bubbly and beer\, all whilst enjoying 3 hours of live performances from the Archer Street team\, with 90’s-inspired entertainment. \nExpect to hear Madonna\, Boyzone\, Usher\, and many more! \nTicket Options:  \n\nStandard Ticket – £25\n\nOver 2 hours of fantastic entertainment!\n1 glass of bubbly prosecco to kickstart the fun.\nYour choice of one mouth-watering pizza.\n\n\nBottomless Ticket – £55:\n\nOver 2 hours of show-stopping entertainment!\n90 minutes of bottomless pizza\, prosecco\, and beer!\n\n\n\nEssential Info: \n\n\n\nTickets are a must for entry and are non-refundable.\nGuests will need to leave the venue once the event wraps up.\nBottomless starts 14:30 and ends at 16:00. Please ensure you arrive promptly to avoid missing valuable bottomless time.\nWe run an over 25 policy.\nWe unfortunately don’t accept stag/hen parties.\nAll guests in your party must purchase the same ticket type else we cannot guarantee you’ll be seated together.\nSmaller groups may be in shared areas.\n\n\n\nSo what you waiting for? Dust off those low-rise jeans\, gather your crew\, and get ready for an afternoon of unforgettable 90s vibes! \nSecure your tickets now for the biggest throwback party ever! \n 
URL:https://archerstreet.co.uk/event/back-to-the-90s-brunch-sw11-101-2/2026-02-14/
LOCATION:SW11
CATEGORIES:Brunch
ATTACH;FMTTYPE=image/jpeg:https://archerstreet.co.uk/wp-content/uploads/2024/06/AS_Back-to-90s_Banner.jpg
END:VEVENT
BEGIN:VEVENT
DTSTART;TZID=Europe/London:20260222T140000
DTEND;TZID=Europe/London:20260222T170000
DTSTAMP:20260423T225414
CREATED:20251121T105226Z
LAST-MODIFIED:20260415T150753Z
UID:10010250-1771768800-1771779600@archerstreet.co.uk
SUMMARY:Disney Family Immersive Brunch\, Northcote Road
DESCRIPTION:Sundays 2-5pm\nAdult ticket £15\n*Child ticket £10\nStep into a world of magic and music at our Disney Family Brunch. \nGet ready to be taken to infinity and beyond with live performances of all your favourite Disney hits – from Frozen and The Lion King\, to Beauty & The Beast\, The Little Mermaid and beyond. The perfect Sunday treat for kids and grown-ups alike! \nSing along to all your Disney favourites with live performances from our talented West End cast – featuring songs from Frozen\, The Lion King\, Beauty & The Beast\, The Little Mermaid\, and more! \nA fun-filled event for the whole family. \nIncredible live singing and performances. \nDisney magic in every moment. \nWhether you’re young or just young at heart\, come dressed as your favourite Disney character and enjoy 3 magical hours of music\, laughter\, and memories that will last a lifetime. \n*Under 3s go free. \n  \nTicket Options:\n£15 Adult – 3 hours of live entertainment\, a glass of prosecco or beer and pizza. \n£10 Kids (3+ years) – 3 hours of live entertainment\, pizza and a drink. \n  \nT&C’s\nChildren under 16 years must be accompanied by an adult. \nUnder 3 years go free (max of one per family booking). A ticket must be purchased (at no cost). \nTickets are a must for entry and are non-refundable. \nGuests may bring a pram\, but please note it will be stored with us during the event. \nAll guests in your party must purchase the same ticket type\, or else we cannot guarantee you’ll be seated together. \nSupervising adult-to-child ratios sometimes applies. \nIf children behave disruptively or unsafe situations arise\, the guardian (or supervisor) is ultimately responsible for how they’re managed and ensuring everyone’s safety. \nMedical conditions\, allergies\, or special needs should be disclosed at booking; organisers may restrict participation in certain activities for safety. \nDue to health and safety\, guests will be asked to depart after the event finishes. \n  \n\n 
URL:https://archerstreet.co.uk/event/disney-family-immersive-brunch-sw11/2026-02-22/
LOCATION:SW11
CATEGORIES:Brunch
ATTACH;FMTTYPE=image/jpeg:https://archerstreet.co.uk/wp-content/uploads/2025/11/thumbnail_AS_Digital_DisneyKids_017.jpg
END:VEVENT
BEGIN:VEVENT
DTSTART;TZID=Europe/London:20260228T140000
DTEND;TZID=Europe/London:20260228T170000
DTSTAMP:20260423T225414
CREATED:20251204T120730Z
LAST-MODIFIED:20260408T115510Z
UID:10010239-1772287200-1772298000@archerstreet.co.uk
SUMMARY:Back To 90's Bottomless Brunch Northcote Road
DESCRIPTION:Join us in Archer Street SW11 as we travel back to the 90’s for an afternoon of non-stop throwback hits at this iconic Bottomless Brunch! \nNo Scrubs allowed at this brunch – let our talented performers take you on a trip down memory lane\, celebrating an era where Madonna and Mariah ruled the roost as they belt out 90’s throwback anthems. From 2pm to 5pm\, enjoy 90 minutes of bottomless bubbly and beer\, all whilst enjoying 3 hours of live performances from the Archer Street team\, with 90’s-inspired entertainment. \nExpect to hear Madonna\, Boyzone\, Usher\, and many more! \nTicket Options:  \n\nStandard Ticket – £25\n\nOver 2 hours of fantastic entertainment!\n1 glass of bubbly prosecco to kickstart the fun.\nYour choice of one mouth-watering pizza.\n\n\nBottomless Ticket – £55:\n\nOver 2 hours of show-stopping entertainment!\n90 minutes of bottomless pizza\, prosecco\, and beer!\n\n\n\nEssential Info: \n\n\n\nTickets are a must for entry and are non-refundable.\nGuests will need to leave the venue once the event wraps up.\nBottomless starts 14:30 and ends at 16:00. Please ensure you arrive promptly to avoid missing valuable bottomless time.\nWe run an over 25 policy.\nWe unfortunately don’t accept stag/hen parties.\nAll guests in your party must purchase the same ticket type else we cannot guarantee you’ll be seated together.\nSmaller groups may be in shared areas.\n\n\n\nSo what you waiting for? Dust off those low-rise jeans\, gather your crew\, and get ready for an afternoon of unforgettable 90s vibes! \nSecure your tickets now for the biggest throwback party ever! \n 
URL:https://archerstreet.co.uk/event/back-to-the-90s-brunch-sw11-101-2/2026-02-28/
LOCATION:SW11
CATEGORIES:Brunch
ATTACH;FMTTYPE=image/jpeg:https://archerstreet.co.uk/wp-content/uploads/2024/06/AS_Back-to-90s_Banner.jpg
END:VEVENT
END:VCALENDAR